BEGIN:VCALENDAR
VERSION:2.0
PRODID:-//wp-events-plugin.com//7.2.3.1//EN
TZID:Europe/Berlin
X-WR-TIMEZONE:Europe/Berlin
BEGIN:VEVENT
UID:183@bcis-bildung.at
DTSTART;TZID=Europe/Berlin:20250908T090000
DTEND;TZID=Europe/Berlin:20250908T153000
DTSTAMP:20250611T074934Z
URL:https://bcis-bildung.at/events/55-die-letzten-jahre-im-beruf-und-der-u
 ebergang-in-den-ruhestand-2/
SUMMARY:55+ Die letzten Jahre im Beruf und der Übergang in den Ruhestand
DESCRIPTION:Die letzten Jahre im Beruf und der Übergang in den Ruhestand\n
 \nDie ersten und die letzten Berufsjahre sind besondere Zeitabschnitte. Be
 ide sind geprägt von Umbrüchen und neuen Orientierungen.\n\nVor allem de
 r bevorstehende Wechsel vom aktiven Berufsleben in den Ruhestand ist eine 
 einschneidende Veränderung\, da mit der beruflichen Tätigkeit auch eine 
 wichtige Säule der Identität wegfällt.\n\nEine Zeit\, um Bilanz zu zieh
 en. Eine Zeit\, sich Fragen zu stellen: Welche weiteren Ziele will ich mir
  stecken? Wie kann ich in den nächsten Jahren bis zur Rente motiviert und
  fit bleiben und die Balance zwischen meinen Lebensbereichen erhalten? Wie
  kann ich meine Erfahrungen und mein Know-how in meinem Beruf noch besser 
 einsetzen und weitergeben?\n\nDurchleuchten Sie Ihre fachlichen und persö
 nlichen Kompetenzen und finden Sie heraus\, wie Sie die kommenden Berufsja
 hre interessant und sinnvoll gestalten können. Sie bekommen Raum und Zeit
 \, um sich mit Gleichgesinnten dem Thema der letzten Berufsjahre und dem 
 Übergang in den Ruhestand zu widmen.\n\nTechnik:\n\n 	PC oder Laptop mit 
 Kamera und Headset oder Kopfhörer\n 	GoToMeeting\n\nSie können jederzeit
  an einem GoToMeeting Testmeeting teilnehmen\, um sich mit GoToMeeting ver
 traut zu machen und Ihr Mikrofon/Ihre Lautsprecher zu testen\, bevor Sie a
 n der Fortbildung teilnehmen. https://support.goto.com/de/meeting/help/joi
 n-a-test-session-g2m050001\n\nZielgruppe: \n\nMitarbeiter und Mitarbeiteri
 nnen\, die innerhalb der nächsten fünf bis zehn Jahre aus dem Berufslebe
 n ausscheiden und ihre letzten Berufsjahre und den Übergang ins Rentenalt
 er aktiv gestalten und Perspektiven entwickeln wollen.\n\nDozent: Dipl.-Ps
 ych. Roland Haag
CATEGORIES:Online,Persönliche und soziale Kompetenzen
END:VEVENT
BEGIN:VTIMEZONE
TZID:Europe/Berlin
X-LIC-LOCATION:Europe/Berlin
BEGIN:DAYLIGHT
DTSTART:20250330T030000
TZOFFSETFROM:+0100
TZOFFSETTO:+0200
TZNAME:CEST
END:DAYLIGHT
END:VTIMEZONE
END:VCALENDAR