BEGIN:VCALENDAR
VERSION:2.0
PRODID:-//wp-events-plugin.com//7.2.3.1//EN
TZID:Europe/Berlin
X-WR-TIMEZONE:Europe/Berlin
BEGIN:VEVENT
UID:215@bcis-bildung.at
DTSTART;TZID=Europe/Berlin:20251009T000000
DTEND;TZID=Europe/Berlin:20251009T000000
DTSTAMP:20250821T071634Z
URL:https://bcis-bildung.at/events/7398/
SUMMARY:Führung als Funktion - was leistet Führung
DESCRIPTION:Kurz\, praxisnah und direkt umsetzbar – kompakte Führungsimp
 ulse mit systemischer Perspektive\n\nFührung bedeutet\, täglich Entschei
 dungen zu treffen\, Teams zu motivieren und Herausforderungen zu meistern.
  Doch was genau leistet Führung eigentlich?\n\nWelche Funktion hat sie in
  Organisationen? Genau hier setzt unser kompaktes Seminar „Führungsnugg
 ets für den Alltag – Impulse am Nachmittag“ an.\n\nInhalte:\n\nImpuls
 -Thema: Führung als Funktion – was leistet Führung?\n\nIn dieser kurze
 n\, aber wirkungsvollen Lerneinheit beleuchten wir die Funktion von Führu
 ng aus systemischer Sicht. Was ist der eigentliche Zweck von Führung\, un
 d wie kann sie wirksam gestaltet werden?\n\nAnschließend wenden wir die M
 ethode der kollegialen Fallberatung auf einen konkreten Praxisfall aus der
  Gruppe an. So verbinden wir theoretische Impulse mit direkter Anwendung u
 nd ermöglichen einen wertvollen Austausch.\n\nZiel der Fortbildung: \n\n
 Diese Fortbildung vermittelt kompakte und direkt anwendbare Impulse für d
 en Führungsalltag. Die Teilnehmenden erhalten einen systemischen Blick au
 f zentrale Führungsthemen und erproben die Methode der kollegialen Fallbe
 ratung\, um konkrete Herausforderungen aus der Praxis zu reflektieren und 
 neue Lösungsansätze zu entwickeln.\n\nWas Sie erwartet:\n\n✅ Kompakte 
 Wissensvermittlung – kurz\, knackig\, relevant\n\n✅ Ein systemischer B
 lick auf die Funktion von Führung\n\n✅ Direkte Anwendung mit der Method
 e der kollegialen Fallberatung\n\n✅ Praxisnahe Beispiele und Austausch m
 it anderen Führungskräften\n\n✅ Neue Perspektiven und Inspiration für
  den Führungsalltag \n\nFür wen ist das Seminar geeignet?\n\nTechnik:\n
 \n 	PC oder Laptop mit Kamera und Headset oder Kopfhörer\n 	Zoom Desktop-
 Client\n\nSie können jederzeit an einem Zoom Testmeeting teilnehmen\, um 
 sich mit Zoom vertraut zu machen und Ihr Mikrofon/Ihre Lautsprecher zu tes
 ten\, bevor Sie an der Fortbildung teilnehmen.  http://zoom.us/testIn neu
 em Fenster öffnen\n\nZielgruppe: Führungskräfte aus allen Fachbereichen
 \, Teamleiter:innen\, und alle\, die ihre Führungskompetenz mit neuen Imp
 ulsen und praxisnaher Reflexion weiterentwickeln möchten.\n\nDozent: Regi
 na Tenga\, Staatlich anerkannte Ergotherapeutin
CATEGORIES:Online
END:VEVENT
BEGIN:VTIMEZONE
TZID:Europe/Berlin
X-LIC-LOCATION:Europe/Berlin
BEGIN:DAYLIGHT
DTSTART:20250330T030000
TZOFFSETFROM:+0100
TZOFFSETTO:+0200
TZNAME:CEST
END:DAYLIGHT
END:VTIMEZONE
END:VCALENDAR