BEGIN:VCALENDAR
VERSION:2.0
PRODID:-//wp-events-plugin.com//7.2.3.1//EN
TZID:Europe/Berlin
X-WR-TIMEZONE:Europe/Berlin
BEGIN:VEVENT
UID:213@bcis-bildung.at
DTSTART;TZID=Europe/Berlin:20251008T090000
DTEND;TZID=Europe/Berlin:20251008T153000
DTSTAMP:20250821T064837Z
URL:https://bcis-bildung.at/events/abgrenzung/
SUMMARY:Abgrenzung Grundpflege zur Behandlungspflege
DESCRIPTION:Bei der Begleitung von Menschen mit Behinderung müssen gesundh
 eitliche und pflegerische Problemstellungen in geeigneter Weise Berücksic
 htigung finden\, um Wohlbefinden und Lebensqualität zu fördern und zu er
 halten.\n\nIn der Behindertenhilfe liegt die Orientierung stark auf dem p
 ädagogischen Ansatz. Es gibt aber auch in fast allen Bereichen pflegerisc
 he Leistungen.\n\nSomit ergeben sich vielfach die Notwendigkeiten für pfl
 egerische Hilfeleistungen\, die die alltäglichen Verrichtungen betreffen\
 , bis hin zu speziellen „einfachen“ behandlungspflegerische Tätigkeit
 en die bedacht werden müssen.\n\nDiese\, im Einzelfall speziellen „einf
 achen“ behandlungs-pflegerischen Tätigkeiten haben einen nicht nur höh
 eren Zeitaufwand\, sondern bedürfen auch einer genauen Leistungsbeschreib
 ung um den Mehraufwand refinanziert zu bekommen.\n\nIn diesem Seminar erfa
 hren Sie:\n\n 	Welche Tätigkeiten zur Grundpflege gehören\n 	Was beinhal
 tet „einfache“ Behandlungspflege\n 	Wie kann eine genaue Leistungsbesc
 hreibung aussehen\n\nMethode:\n\nMit Fallbespielen erarbeiten wir gemeinsa
 m unter zur Hilfename des Pflegeprozesses eine konzeptionelle\, klar defin
 ierte\, schriftlich nachvollziehbare Pflegeplanung mit Tätigkeitsnachweis
 .\n\nZielgruppe \n\nMitarbeiter/-innen\n\n 	aus Einrichtungen der Behinde
 rtenhilfe (Werkstatt und Wohnheime)\n 	Mitarbeiter/in für die das Thema w
 ichtig ist\n\nTechnik:\n\n 	PC oder Laptop mit Kamera und Headset oder Kop
 fhörer\n 	Zoom\n\nDozent: Anne Breynk\, Medizin-Pädagogin\, Lehrerin fü
 r Pflegeberufe
CATEGORIES:Management und Führung,Online
END:VEVENT
BEGIN:VTIMEZONE
TZID:Europe/Berlin
X-LIC-LOCATION:Europe/Berlin
BEGIN:DAYLIGHT
DTSTART:20250330T030000
TZOFFSETFROM:+0100
TZOFFSETTO:+0200
TZNAME:CEST
END:DAYLIGHT
END:VTIMEZONE
END:VCALENDAR