BEGIN:VCALENDAR
VERSION:2.0
PRODID:-//wp-events-plugin.com//7.2.3.1//EN
TZID:Europe/Berlin
X-WR-TIMEZONE:Europe/Berlin
BEGIN:VEVENT
UID:223@bcis-bildung.at
DTSTART;TZID=Europe/Berlin:20260408T090000
DTEND;TZID=Europe/Berlin:20260408T153000
DTSTAMP:20251125T070421Z
URL:https://bcis-bildung.at/events/anamnesetechniken-fuer-soziale-fachkrae
 fte-5/
SUMMARY:Anamnesetechniken für soziale Fachkräfte
DESCRIPTION:Im Beratungsprozess oder bei der Umsetzung pädagogischer Ziele
  treten Schwierigkeiten auf. Klientinnen und Klienten verweigern scheinbar
  die Mitarbeit oder es kommt zu Handlungsblockaden während der Arbeit mit
  den Menschen. Oftmals liegen die Ursachen dafür aber nicht im Desinteres
 se der Klientinnen und Klienten\, sondern in Problemen der Vergangenheit d
 ie weder den sozialen Fachkräften und oft auch den Klientinnen und Klient
 en selbst nicht bewusst sind.\n\nEine sorgfältige Anamnese der Vergangenh
 eit wie auch der gewärtigen Situation schaffen hier Abhilfe und machen Be
 ratungs- und Begleitungsprozesse erfolgreich.\n\nInhalte:\n- Methoden der 
 Fremdanamnese bezogen auf den psychosozialen und psychischen Bereich.\n- M
 ethoden der Eigenanamnese bezogen auf den sozialen\, psychosozialen und ps
 ychischen Bereich.\n- Vorstellung des SORCK-Modells\n\nZielgruppe: Pädago
 ginnen und Pädagogen\, Sozialpädagoginnen und Sozialpädagogen\n\nTechni
 k:\n\n 	PC oder Laptop mit Kamera und Headset oder Kopfhörer\n\nDozent: U
 we Steinmeyer\, Dozent für Psychologie
CATEGORIES:Online
END:VEVENT
BEGIN:VTIMEZONE
TZID:Europe/Berlin
X-LIC-LOCATION:Europe/Berlin
BEGIN:DAYLIGHT
DTSTART:20260329T030000
TZOFFSETFROM:+0100
TZOFFSETTO:+0200
TZNAME:CEST
END:DAYLIGHT
END:VTIMEZONE
END:VCALENDAR