BEGIN:VCALENDAR
VERSION:2.0
PRODID:-//wp-events-plugin.com//7.2.3.1//EN
TZID:Europe/Berlin
X-WR-TIMEZONE:Europe/Berlin
BEGIN:VEVENT
UID:287@bcis-bildung.at
DTSTART;TZID=Europe/Berlin:20260312T090000
DTEND;TZID=Europe/Berlin:20260312T153000
DTSTAMP:20251125T065813Z
URL:https://bcis-bildung.at/events/auftragskalkulation-in-einer-werkstatt-
 der-behindertenhilfe-7/
SUMMARY:Auftragskalkulation in einer Werkstatt der Behindertenhilfe
DESCRIPTION:Wie kalkuliere ich Produkte und Dienstleistungen??? \n\nDie be
 triebswirtschaftliche Seite der Führung einer WfbM verlangt vor dem Hinte
 rgrund eines härter werdenden Wettbewerbsdrucks eine aussagekräftige Kos
 tenrechnung und eine differenzierte Auftragskalkulation mit der Ermittlung
  von noch verantwortbaren Preisuntergrenzen.\n\nDabei ist schon bei der Au
 ftragsakquise eine detaillierte und transparente Kostenermittlung notwendi
 g.\n\nZiele &amp\; Nutzen des Seminares:\n\nDie Teilnehmer/innen lernen ge
 eignete Kalkulations- und Preisfindungsmethoden kennen. Darüber hinaus we
 rden die organisatorischen Voraussetzungen im Rechnungswesen für die Lief
 erung von geeigneten und differenzierten Kalkulationsdaten dargestellt.\n\
 nSeminarthemen &amp\; Inhalte:\n\n 	Organisation der Kostenrechnung\n 	Vol
 lständige Ermittlung der Kosten\n 	Planung des Gewinnes mit Break- even- 
 Analyse/ Gewinnschwellenberechnung\n 	Ermittlung des Zielverkaufspreises\n
  	Flexible Plankostenrechnung&amp\; Materialbedarfsermittlung\n 	Errechnun
 g von Stunden- &amp\; Zuschlagssätzen\n 	Ermittlung der Preisuntergrenzen
 \n 	Kalkulationsbeispiele aus den Arbeitsbereichen z.B. Holz\, Metall u.a.
 \n\nUnklare Kalkulationsbeispiele aus Ihrer Praxis können gern mitgebrach
 t werden.\n\nTechnik:\n\n 	PC oder Laptop mit Kamera und Headset oder Kopf
 hörer\n 	GoToMeeting\n\nSie können jederzeit an einem GoToMeeting Testme
 eting teilnehmen\, um sich mit GoToMeeting vertraut zu machen und Ihr Mikr
 ofon/Ihre Lautsprecher zu testen\, bevor Sie an der Fortbildung teilnehmen
 . https://support.goto.com/de/meeting/help/join-a-test-session-g2m050001\n
 \nZielgruppe: \n\nWerkstattleitung\, Technische Leiter/innen\, Produktions
 leiter/innen\, Abteilungsleiter\, Verwaltungsleiter- &amp\; Rechnungswesen
  Leiter/innen einer Werkstätte der Behindertenhilfe\n\nDozent: Diplom-Ing
 . Michael Bräutigam
CATEGORIES:Management und Führung,Online
END:VEVENT
BEGIN:VTIMEZONE
TZID:Europe/Berlin
X-LIC-LOCATION:Europe/Berlin
BEGIN:STANDARD
DTSTART:20251026T020000
TZOFFSETFROM:+0200
TZOFFSETTO:+0100
TZNAME:CET
END:STANDARD
END:VTIMEZONE
END:VCALENDAR