BEGIN:VCALENDAR
VERSION:2.0
PRODID:-//wp-events-plugin.com//7.2.3.1//EN
TZID:Europe/Berlin
X-WR-TIMEZONE:Europe/Berlin
BEGIN:VEVENT
UID:172@bcis-bildung.at
DTSTART;TZID=Europe/Berlin:20260203T090000
DTEND;TZID=Europe/Berlin:20260204T153000
DTSTAMP:20251125T065329Z
URL:https://bcis-bildung.at/events/autismus-teilhabeplanung-mit-der-icf-3/
SUMMARY:Autismus – Teilhabeplanung mit der ICF
DESCRIPTION:Oder: Wie man erreichbare und überprüfbare Teilhabeziele ermi
 ttelt…\n\nDie individuelle Teilhabeplanung ist Zentrum und Ausgangspunkt
  für das fachliche Handeln in allen Bereichen der Eingliederungshilfe. Ni
 cht nur die Bedarfsermittlung und die Entwicklung bedarfsgerechter und inn
 ovativer Hilfsangebote stellen die Mitarbeitenden vor komplexe Anforderung
 en. Auch die Überprüfung der Wirksamkeit und der Zielerreichung sind wes
 entliche Bestandteile. Sie tragen nachhaltig zum Gelingen der Teilhabeplan
 ung bei.\n\nDurch die Besonderheiten\, die mit der Diagnose Autismus einhe
 rgehen gestaltet sich die Teilhabeplanung mit autistischen Menschen oft be
 sonders schwierig.\n\nMit den im Herbst 2018 vorgestellten Core-Sets zu Au
 tismus-Spektrum-Störungen ist die ICF auch Autismus-spezifisch anwendbar 
 und bietet Hilfestellung bei der Zieldefinition und bei der Problemanalyse
 .\n\nDie Verknüpfung von Bedarfsermittlung und Zielplanung bietet die Bas
 is für eine nachvollziehbare Teilhabeplanung. Nachvollziehbarkeit als Bas
 is für eine prozessbegleitende Evaluierung und Qualitätssicherung\, um d
 as Erreichen von Zielen sichtbar zu machen.\n\nIn diesem Seminar werden wi
 r uns mit einer Autismus-spezifischer Teilhabeplanung beschäftigen\, um R
 essourcen-Einschränkungen und Kompetenzen zu beschreiben\, den individuel
 len Bedarf zu ermitteln und darauf aufbauend Teilhabeziele definieren. \n
 \nInhalte\n\n 	Autismus-spezifische Teilhabeplanung auf Grundlage der ICF\
 n 	Erfassung von Zielen\, Methoden und Inhalten\n 	Definitionen\, Konzepte
 \, Visionen Autismus-spezifischer Teilhabeplanung\n 	Vielfältige Methoden
  der Bedarfsermittlung\n 	Praktische Umsetzung an Fallbeispielen\n\nLerner
 gebnisse \n\nDie Teilnehmenden\n\n 	setzen sich mit der gezielten Erhebun
 g der Funktionsfähigkeit gemäß ICF Standard auseinander\n 	lernen die A
 nwendung einer Autismus-spezifischen Teilhabeplanung anhand von Praxisbeis
 pielen kennen\n 	beschäftigen sich mit der Definition von Entwicklungszie
 le\n 	erhalten Einblick in eine nachvollziehbare Teilhabeplanung\n 	lernen
  Methoden der Bedarfsermittlung kennen\n\nTechnik:\n\n 	PC oder Laptop mit
  Kamera und Headset oder Kopfhörer\n 	Zoom Desktop-Client\n\nSie können 
 jederzeit an einem Zoom Testmeeting teilnehmen\, um sich mit Zoom vertraut
  zu machen und Ihr Mikrofon/Ihre Lautsprecher zu testen\, bevor Sie an der
  Fortbildung teilnehmen.  http://zoom.us/testIn neuem Fenster öffnenIn n
 euem Fenster öffnen\n\nZielgruppe:          \n\nMitarbeiter_Inn
 en und Führungskräfte aus den Bereichen Wohnen\, Arbeit\, Freizeit\, Per
 sonen aus dem Umfeld von Menschen mit Autismus\n\nDozentin:  Susanne Stra
 sser
CATEGORIES:Grundlagen der pädagogischen Arbeit,Online
END:VEVENT
BEGIN:VTIMEZONE
TZID:Europe/Berlin
X-LIC-LOCATION:Europe/Berlin
BEGIN:STANDARD
DTSTART:20251026T020000
TZOFFSETFROM:+0200
TZOFFSETTO:+0100
TZNAME:CET
END:STANDARD
END:VTIMEZONE
END:VCALENDAR