BEGIN:VCALENDAR
VERSION:2.0
PRODID:-//wp-events-plugin.com//7.2.3.1//EN
TZID:Europe/Berlin
X-WR-TIMEZONE:Europe/Berlin
BEGIN:VEVENT
UID:20@bcis-bildung.at
DTSTART;TZID=Europe/Berlin:20250219T090000
DTEND;TZID=Europe/Berlin:20250219T153000
DTSTAMP:20250220T115058Z
URL:https://bcis-bildung.at/events/autismus-und-visuelle-hilfen-um-die-wel
 t-besser-verstehen-zu-lernen/
SUMMARY:Autismus und Visuelle Hilfen um die Welt besser verstehen zu lernen
DESCRIPTION:Beeinträchtigungen in der sozialen Kontaktaufnahme sind eines 
 der Hauptmerkmale der Autismus-Spektrum-Störungen und die Probleme\, die 
 damit einhergehen sein ebenso komplex wie umfassend. Schwierigkeiten gibt 
 es u.a. bei der Aufnahme und Gestaltung von Kontakten\, sowie mit angemess
 ener Reaktion auf Kontaktangebote anderer\, der Reflexion des eigenen Verh
 altens und dem Erkennen und Anwenden von sozialen Regeln.\n\nIn diesem Sem
 inar beschäftigen wir uns mit den Grundlagen der sozialen Interaktion. Da
 rauf aufbauend nehmen verschiedene visuelle Hilfen und deren Einsatz in de
 n Blick. Ausgehend von eigenen Fallbeispielen erproben und besprechen wir 
 u.a. Alternativenübersichten\, Comic Strip Conversations (Carol Gray) und
  Social Stories (Carol Gray)\n\nInhalt\n\n 	Besonderheiten in der sozialen
  Interaktion und Kommunikation\n 	Alternativenübersichten\n 	Comic Strip 
 Conversations (Carol Gray)\n 	Social Stories (Carol Gray)\n 	Praktische Um
 setzung der Methodik auf konkrete Fallbeispiele aus der Praxis\n\nLernerge
 bnisse:\n\nDie Teilnehmenden\n\n 	setzen sich mit den Schwierigkeiten in d
 er sozialen Interaktion auseinander und können so die Reaktionsweisen aut
 istischer Menschen besser verstehen\n 	lernen die Anwendung visueller Hilf
 en anhand von Praxisbeispielen kennen\n 	erstellen einfache visuelle Hilfe
 n für die eigene Praxis\n\nTechnik:\n\n 	PC oder Laptop mit Kamera und He
 adset oder Kopfhörer\n 	Zoom\n\nSie können jederzeit an einem Zoom Testm
 eeting teilnehmen\, um sich mit Zoom vertraut zu machen und Ihr Mikrofon/I
 hre Lautsprecher zu testen\, bevor Sie an der Fortbildung teilnehmen.  ht
 tp://zoom.us/testIn neuem Fenster öffnen\n\nZielgruppe:         
  \n\nMitarbeiter_Innen und Führungskräfte aus den Bereichen Wohnen\, Ar
 beit\, Freizeit die mit autistischen Menschen auf gutem Funktionsniveau ar
 beiten\, Personen aus dem Umfeld von Menschen mit Autismus\n\nDozentin: Su
 sanne Strasser
CATEGORIES:Online
END:VEVENT
BEGIN:VTIMEZONE
TZID:Europe/Berlin
X-LIC-LOCATION:Europe/Berlin
BEGIN:STANDARD
DTSTART:20241027T020000
TZOFFSETFROM:+0200
TZOFFSETTO:+0100
TZNAME:CET
END:STANDARD
END:VTIMEZONE
END:VCALENDAR