BEGIN:VCALENDAR
VERSION:2.0
PRODID:-//wp-events-plugin.com//7.2.3.1//EN
TZID:Europe/Berlin
X-WR-TIMEZONE:Europe/Berlin
BEGIN:VEVENT
UID:327@bcis-bildung.at
DTSTART;TZID=Europe/Berlin:20260428T090000
DTEND;TZID=Europe/Berlin:20260428T153000
DTSTAMP:20260217T082505Z
URL:https://bcis-bildung.at/events/beschaeftigte-motivieren-5/
SUMMARY:Beschäftigte motivieren
DESCRIPTION:Kennen Sie das?\n\nSie geben sich alle Mühe Beschäftigte für
  pädagogische oder Produktionsziele zu motivieren und es passiert so gut 
 wie nichts?\n\nSie fragen sich woran das liegt und was Sie nun  noch tun 
 können?\n\nIn diesem Seminar lernen Sie nachweislich wirksame Motivations
 techniken kennen. \n\nInhalte:\n\n 	Kann ich motivieren oder nur bei mein
 en Beschäftigten vorhandene Motive mit Anreizen wecken?\n 	Wie erkenne ic
 h die Motive meiner Beschäftigten?\n 	Warum kann ich bei manchen psychisc
 hen Störungen bestimmte Motivationstechniken anwenden und brauche bei and
 eren Störungen andere Tools?\n 	Welche nehme ich wann um Erfolg zu haben?
 \n\nArbeitsformen \n\n 	Praxisorientierte Vorträge\n 	Übungen\n\nZielgru
 ppe: Mitarbeiterinnen und Mitarbeiter in sozialer Einrichtungen\, Fachkrä
 fte in Wohneinrichtungen\, sowie Gruppenleiter in Werkstätten\, Sozialpä
 dagogen und Sozialarbeiter\n\nTechnik:\n\n 	PC oder Laptop mit Kamera und 
 Headset oder Kopfhörer\n 	Zoom Desktop-Client\n\nSie können jederzeit an
  einem Zoom Testmeeting teilnehmen\, um sich mit Zoom vertraut zu machen u
 nd Ihr Mikrofon/Ihre Lautsprecher zu testen\, bevor Sie an der Fortbildung
  teilnehmen.  http://zoom.us/testIn neuem Fenster öffnen\n\nDozent: Uwe 
 Steinmeyer\, Dozent für Psychologie und Verhaltenstherapie
CATEGORIES:Management und Führung,Online
END:VEVENT
BEGIN:VTIMEZONE
TZID:Europe/Berlin
X-LIC-LOCATION:Europe/Berlin
BEGIN:DAYLIGHT
DTSTART:20260329T030000
TZOFFSETFROM:+0100
TZOFFSETTO:+0200
TZNAME:CEST
END:DAYLIGHT
END:VTIMEZONE
END:VCALENDAR