BEGIN:VCALENDAR
VERSION:2.0
PRODID:-//wp-events-plugin.com//7.2.3.1//EN
TZID:Europe/Berlin
X-WR-TIMEZONE:Europe/Berlin
BEGIN:VEVENT
UID:228@bcis-bildung.at
DTSTART;TZID=Europe/Berlin:20260519T090000
DTEND;TZID=Europe/Berlin:20260519T153000
DTSTAMP:20251125T070848Z
URL:https://bcis-bildung.at/events/beziehungsgestaltung-zu-menschen-mit-ei
 ner-geistigen-behinderung-2/
SUMMARY:Beziehungsgestaltung zu Menschen mit einer geistigen Behinderung
DESCRIPTION:Die Kompetenz der Fachkräfte in der Behindertenhilfe\, eine st
 abile und fürsorgliche Beziehung zu ihren Klienten aufbauen und aufrechte
 rhalten zu können\, ist sehr bedeutsam. Bei Menschen mit geistiger Behind
 erung sind die primären Beziehungserfahrungen häufig unter erschwerten B
 edingungen abgelaufen. Diese Umstände können im weiteren Lebenslauf zu G
 efühlszuständen und Verhaltensweisen führen\, die von der sozialen Umwe
 lt als Herausforderung erlebt werden. In diesem Seminar werden die besonde
 ren Hintergründe der Bindungsentwicklung bei Menschen mit geistiger Behin
 derung erläutert und Möglichkeiten aufgezeigt\, wie Fachkräfte durch ih
 re Kontaktgestaltung zu positiven Beziehungserfahrungen und einer emotiona
 len Stabilisierung ihrer Klienten beitragen können.\n\nInhalt:\n\n 	Grund
 lagen und Fragestellungen der Bindungstheorie\n 	Bindungskategorien\n 	Kon
 zept der Feinfühligkeit\n 	Bindungsstörungen bei Menschen mit geistiger 
 Behinderung\n 	Impulse zur professionellen Beziehungsgestaltung auf dem Hi
 ntergrund der Bindungsforschung\n\nTechnik:\n\n 	PC oder Laptop mit Kamera
  und Headset oder Kopfhörer\n 	Zoom Desktop-Client\n\nSie können jederze
 it an einem Zoom Testmeeting teilnehmen\, um sich mit Zoom vertraut zu mac
 hen und Ihr Mikrofon/Ihre Lautsprecher zu testen\, bevor Sie an der Fortbi
 ldung teilnehmen.  http://zoom.us/testIn neuem Fenster öffnen\n\nZielgru
 ppe:\n\nFachkräfte der Jugendhilfe und MitarbeiterInnen aus den Sozial- u
 nd Gesundheitsberufen\, für die dieses Thema von Bedeutung ist.\n\nDozent
 : Jürgen Reebmann M.A.
CATEGORIES:Grundlagen der pädagogischen Arbeit,Online
END:VEVENT
BEGIN:VTIMEZONE
TZID:Europe/Berlin
X-LIC-LOCATION:Europe/Berlin
BEGIN:DAYLIGHT
DTSTART:20260329T030000
TZOFFSETFROM:+0100
TZOFFSETTO:+0200
TZNAME:CEST
END:DAYLIGHT
END:VTIMEZONE
END:VCALENDAR