BEGIN:VCALENDAR
VERSION:2.0
PRODID:-//wp-events-plugin.com//7.2.3.1//EN
TZID:Europe/Berlin
X-WR-TIMEZONE:Europe/Berlin
BEGIN:VEVENT
UID:231@bcis-bildung.at
DTSTART;TZID=Europe/Berlin:20260317T090000
DTEND;TZID=Europe/Berlin:20260317T153000
DTSTAMP:20251125T065858Z
URL:https://bcis-bildung.at/events/borderline-6/
SUMMARY:Borderline
DESCRIPTION:Borderline (ICD 10 Code F 60.31) ist eine der komplexesten psyc
 hischen Störungen. Das Verhalten einer Person mit der Diagnose Borderline
  ist kaum nachvollziehbar und erschwert die professionelle Arbeit mit der 
 Personengruppe in sozialen Einrichtungen.\n\nFür die Betroffenen ist das 
 Erreichen der Ziele in der Berufsausbildung und von Produktionszielen nich
 t ohne weiteres möglich. Auch im Bereich des Wohnens ist die Integration 
 in Wohngruppen und das Erreichen von persönlichen oder pädagogischen Zie
 len oft schwierig.\n\nIn diesem Seminar setzen sie sich gezielt mit wirksa
 men Strategien zur Unterstützung und Begleitung auseinander.\n\nInhalt:\n
 \n 	Borderline-Störung mit ihren Erscheinungsformen\n 	Sie bekommen Handw
 erkszeug für eine erfolgreiche Unterstützung unter anderem bei Konflikte
 n und zur Zielerreichung vorgestellt\n 	Unterstützungsmöglichkeiten in d
 en Bereichen persönliche Weiterentwicklung und Verbesserung der Lebensqua
 lität\n 	Spannungsfeld Professionelle Nähe und Distanz in der Begleitung
 \n\nTechnik:\n\n 	PC oder Laptop mit Kamera und Headset oder Kopfhörer\n 
 	Zoom Desktop-Client\n\nSie können jederzeit an einem Zoom Testmeeting te
 ilnehmen\, um sich mit Zoom vertraut zu machen und Ihr Mikrofon/Ihre Lauts
 precher zu testen\, bevor Sie an der Fortbildung teilnehmen.  http://zoom
 .us/testIn neuem Fenster öffnen\n\nZielgruppe: Mitarbeiterinnen und Mitar
 beiter in sozialer Einrichtungen\, Führungskräfte in Wohneinrichtungen\,
  sowie Gruppenleiter in Werkstätten\n\nDozent: Uwe Steinmeyer\, Dozent f
 ür Psychologie
CATEGORIES:Behinderung | Krankheitsbilder | Störungen,Online
END:VEVENT
BEGIN:VTIMEZONE
TZID:Europe/Berlin
X-LIC-LOCATION:Europe/Berlin
BEGIN:STANDARD
DTSTART:20251026T020000
TZOFFSETFROM:+0200
TZOFFSETTO:+0100
TZNAME:CET
END:STANDARD
END:VTIMEZONE
END:VCALENDAR