BEGIN:VCALENDAR
VERSION:2.0
PRODID:-//wp-events-plugin.com//7.2.3.1//EN
TZID:Europe/Berlin
X-WR-TIMEZONE:Europe/Berlin
BEGIN:VEVENT
UID:138@bcis-bildung.at
DTSTART;TZID=Europe/Berlin:20251208T090000
DTEND;TZID=Europe/Berlin:20251208T153000
DTSTAMP:20250610T080100Z
URL:https://bcis-bildung.at/events/diabetes-begleitung-im-ernaehrungsallta
 g-3/
SUMMARY:Diabetes: Begleitung im Ernährungsalltag
DESCRIPTION:Ob\, alt oder jung\, behindert oder nicht behindert- jeder Mens
 ch neigt dazu\, sich von Farben\, Formen und Werbung beeinflussen zu lasse
 n.\n\nDie Folgen von Fehlernährung sind oft nicht bewusst und werden unte
 rschätzt.\n\nFolgen:\n\nDiabetes\, Übergewicht\, Diabetischer Fuß\, Gef
 äß- und Augenprobleme\, Niereninsuffizienz bis hin zum Nierenversagen u.
 v.m.\n\nGesunde Ernährung ist schon definiert in der Internationalen Klas
 sifikation der Funktionsfähigkeit\, Behinderung und Gesundheit (ICF).\n\n
 Der Code d5701 ICF steht für: “Ernährung und Fitness handhaben“\n\nD
 er Code d5702 steht für: “Seine Gesundheit erhalten.“\n\n„Auf sich 
 selbst zu achten\, indem man das tut\, was die eigene Gesundheit erfordert
 \, und zwar im Hinblick auf Gesundheitsrisiken und Krankheitsverhütung\, 
 und man sich über diese Notwendigkeit im Klaren ist. Hierzu gehören prof
 essionelle Hilfe in Anspruch nehmen\, medizinischem oder anderem gesundhei
 tlichem Rat folgen\, Gesundheitsrisiken vermeiden…“.\n\nIn diesem Semi
 nar erfahren Sie:\n\n 	Was - Führt zu Diabetes mellitus?\n 	Welche - Folg
 eerkrankungen können auftreten?\n 	Warum – die Ernährung umstellen?\n\
 nIn diesem Seminar zeigen wir Ihnen die Umsetzung\, Menschen jeden Alters 
 gemäß den Empfehlungen der Deutschen Gesellschaft für Ernährung (DGE) 
 fachlich\, pädagogisch und präventiv in ihrem Ernährungsalltag zu begle
 iten.\n\nZielgruppe:  \n\nMitarbeiter:Innen\n\n 	aus Einrichtungen ambula
 nten und stationären der Behindertenhilfe (mit Pflege)\n 	in der ambulant
 en und stationären Pflege\n 	Mitarbeiter:Innen für die das Thema wichtig
  ist\n\nDozentin: Anne Breynk\, Medizin-Pädagogin\, Lehrerin für Pflegeb
 erufe\n
CATEGORIES:Behinderung | Krankheitsbilder | Störungen,Online
END:VEVENT
BEGIN:VTIMEZONE
TZID:Europe/Berlin
X-LIC-LOCATION:Europe/Berlin
BEGIN:STANDARD
DTSTART:20251026T020000
TZOFFSETFROM:+0200
TZOFFSETTO:+0100
TZNAME:CET
END:STANDARD
END:VTIMEZONE
END:VCALENDAR