BEGIN:VCALENDAR
VERSION:2.0
PRODID:-//wp-events-plugin.com//7.2.3.1//EN
TZID:Europe/Berlin
X-WR-TIMEZONE:Europe/Berlin
BEGIN:VEVENT
UID:309@bcis-bildung.at
DTSTART;TZID=Europe/Berlin:20260121T090000
DTEND;TZID=Europe/Berlin:20260121T153000
DTSTAMP:20251125T065121Z
URL:https://bcis-bildung.at/events/die-zeit-im-griff-mit-outlook-ki-aufbau
 kurs/
SUMMARY:Die Zeit im Griff mit Outlook (KI)-Aufbaukurs
DESCRIPTION:Mehr drin als Sie ahnen. Optimieren Sie ihren Arbeitsplatz prak
 tisch\, einfach\, sinnvoll. Nutzen Sie Möglichkeiten Künstlicher Intelli
 genz (KI) in Outlook.  \n\nDie Arbeitswelt ist komplexer und schneller ge
 worden. Im Arbeitsalltag fehlt oft die Zeit herauszufinden\, welche prakti
 schen Features das Office-Programm tatsächlich noch so für Sie im Angebo
 t hat. Erhalten Sie einen ersten Einblick in die Basics zu KI\, wie MS Cop
 ilot und ChatGPT. In unserem Kurs erfahren Sie\, wie Sie Outlook im Alltag
  zeiteffizient einsetzen\, Ihren Arbeitsplatz besser organisieren und die 
 Zusammenarbeit im Team verbessern. Das aktive Online Seminar Zeit im Griff
  mit Outlook ist ein pragmatischer Ansatz - keine Expertenschulung. Prakti
 sche Beispiele gestalten die Inhalte des Seminars anschaulich. Genießen S
 ie die\n\nVorteile eines Live-Online Seminars. Sie benötigen nur einen Co
 mputer oder ein Notebook\, eine sichere Internetverbindung und ein Headset
 . Schon kann es losgehen. In unserem Live-Online Seminar sind Sie gleich a
 ktiv dabei. Hoher Nutzen\, geringer Aufwand! Unsere Trainer und Dozenten v
 erfügen über einen hohen Praxisbezug und vermitteln Ihnen die Seminarinh
 alte verständlich und unkompliziert. Wir setzen die Version Office 2016 u
 nd 2021 ein.\n\nLernziele:\n\nIn diesem Outlook-Aufbauseminar sollen die T
 eilnehmenden vorhandenes Wissen vertiefen und Neues lernen.\n\nInhalte:\;\
 n\nMein Outlook und KI - Die Arbeitsoberfläche – das „Wichtige“ auf
  einen Blick - Neue Funktionen Outlook 365 und Outlook 2021 - Einblicke un
 d Basics zu KI – Copilot &amp\; ChatGPT – was ist das eigentlich? - Ch
 ancen &amp\; Risiken – der Mensch bleibt unersetzlich\n\nUmgang mit der 
 E-Mail-Flut - Ordnung im Posteingang – Ordner\, Postfächer anlegen\, ve
 rwalten und E-Mails vorsortieren - Nichts vergessen – alles im Blick\, K
 ategorisieren\, Wiedervorlage\, Fähnchen setzen - E-Mails schneller und e
 ffizienter bearbeiten\; Verwenden von Kontakten und Gruppen - Regeln – a
 uch für die Abwesenheit\n\nZeit sparen mit Outlook - KI hilft bei Arbeits
 routinen - QuickSteps einsetzen - Schnellbausteine/AutoTexte nutzen - Prof
 essionell Vorlagen erstellen – eigene und für das Team \n\nTermin- und
  Aufgabenmanagement - Aufgaben\, Termine und Besprechungen organisieren - 
 Kalenderfunktionen und Kalender organisieren - Aufgaben delegieren und ste
 uern\n\nArbeiten im Team - Gruppenkalender - Rechte vergeben und Kategoris
 ieren - Gemeinsame Ordner nutzen\, wie Team-Aufgaben\, Kontakte\, Postfach
  - Einbinden Office-Module\, wie Word\, Excel\, OneNote\, Teams\, MS-Cockp
 it\n\nSeminar- und Schulungsvoraussetzungen Das Seminar ist für Teilnehme
 nde\, die bereits mit Outlook arbeiten und erste Erfahrungen haben\, die i
 hr Wissen vertiefen wollen.\n\nIhr Nutzen: In diesem Live-Online Seminar l
 ernen Sie\n\n 	wie Sie Outlook effizienter nutzen und dabei Ihr Zeitmanage
 ment verbessern können\,\n 	einen ersten Einblick in das Thema KI und mö
 glicher KI-Tools\,\n 	ein zu Ihnen passendes E-Mail-\, Termin- und Aufgabe
 nmanagement aufzubauen\,\n 	Möglichkeiten der Zusammenarbeit im Team kenn
 en und wie Sie diese für sich nutzbar machen.\n\nZielgruppe: Fach- und F
 ührungskräfte und Mitarbeitende aus allen Verwaltungs-\, Werkstatt\, Woh
 n- und Unternehmensbereichen und für alle Personen\, die ihre Outlook-Ken
 ntnisse erweitern und vertiefen wollen.\n\nDozent: Dipl. Wirtschaft. Ing. 
 Bernd Wagenknecht Trainer\, Unternehmensberater und Business Coach
CATEGORIES:Digitalisierung und IT-Kompetenz,Online
END:VEVENT
BEGIN:VTIMEZONE
TZID:Europe/Berlin
X-LIC-LOCATION:Europe/Berlin
BEGIN:STANDARD
DTSTART:20251026T020000
TZOFFSETFROM:+0200
TZOFFSETTO:+0100
TZNAME:CET
END:STANDARD
END:VTIMEZONE
END:VCALENDAR