BEGIN:VCALENDAR
VERSION:2.0
PRODID:-//wp-events-plugin.com//7.2.3.1//EN
TZID:Europe/Berlin
X-WR-TIMEZONE:Europe/Berlin
BEGIN:VEVENT
UID:330@bcis-bildung.at
DTSTART;TZID=Europe/Berlin:20260310T090000
DTEND;TZID=Europe/Berlin:20260310T153000
DTSTAMP:20260217T090422Z
URL:https://bcis-bildung.at/events/digitale-transformation-in-der-werkstat
 t-chancen-und-herausforderungen-5/
SUMMARY:Digitale Transformation in der Werkstatt – Chancen und Herausford
 erungen
DESCRIPTION:Die digitale Transformation führt zunehmend zu einer immer meh
 r digital kommunizierenden und vernetzten Gesellschaft. In der Wirtschaft 
 ist die Digitalisierung der Treiber für die Umwandlung und Neugestaltung 
 von Arbeit. Um diesen Entwicklungen gerecht zu werden\, müssen auch die W
 erkstätten entsprechende Angebote entwickeln\, um auch zukünftig Teilhab
 e am Arbeitsleben für Menschen mit Behinderungen anbieten zu können.\n\n
 Die digitale Transformation ist kein grundsätzlich neues Phänomen\, aber
  Breite\, Tiefe und Geschwindigkeit nehmen zu. In immer mehr Branchen und 
 Bereichen\, auch in dem Bereich der sozialen Dienstleistungen\, ist der Pr
 ozess der digitalen Transformation sichtbar.\n\nDie digitale Transformatio
 n verändert die industriellen Wertschöpfungsprozesse und damit auch die 
 Art der Aufträge\, die von der Industrie an die Werkstätten vergeben wer
 den.\n\nDie digitale Transformation wird aufgrund zunehmender Komplexität
  der Arbeitsprozesse die Hürden für eine Teilhabe von Menschen mit Behin
 derungen an den sich verändernden Arbeitsprozessen erhöhen.\n\nUm neue M
 öglichkeiten einer Beschäftigung zu entwickeln\, müssen diese Hürden o
 rganisatorisch und technisch überwunden werden.\n\nDurch die Nutzung digi
 taler Medien im Bereich beruflicher Aus- und Weiterbildung können individ
 uelle Bildungspotenziale erschlossen und vorhandene Qualifikationen ausgeb
 aut werden.\n\nIn diesem Seminar lernen Sie welche Ansatzpunkte es in der 
 Werkstätte für eine digitale Transformation gibt\, wo die Chancen aber a
 uch Risiken liegen und welche Herausforderungen sich dabei ergeben.\n\nTec
 hnik:\n\n 	PC oder Laptop mit Kamera und Headset oder Kopfhörer\n 	GoToMe
 eting\n\nSie können jederzeit an einem GoToMeeting Testmeeting teilnehmen
 \, um sich mit GoToMeeting vertraut zu machen und Ihr Mikrofon/Ihre Lautsp
 recher zu testen\, bevor Sie an der Fortbildung teilnehmen.  https://supp
 ort.goto.com/de/meeting/help/join-a-test-session-g2m050001\n\nZielgruppe:\
 n\nGeschäftsführung\, Bereichsleitungen\, Produktionsleitungen\, sowie a
 n alle Personen\, die sich mit Eigenprodukten beschäftigen\, die ihre Eig
 enprodukte optimieren wollen oder sich überlegen Eigenprodukte zu entwick
 eln.\n\nDozent: Michael Kattwinkel
CATEGORIES:Digitalisierung und IT-Kompetenz,Online
END:VEVENT
BEGIN:VTIMEZONE
TZID:Europe/Berlin
X-LIC-LOCATION:Europe/Berlin
BEGIN:STANDARD
DTSTART:20251026T020000
TZOFFSETFROM:+0200
TZOFFSETTO:+0100
TZNAME:CET
END:STANDARD
END:VTIMEZONE
END:VCALENDAR