BEGIN:VCALENDAR
VERSION:2.0
PRODID:-//wp-events-plugin.com//7.2.3.1//EN
TZID:Europe/Berlin
X-WR-TIMEZONE:Europe/Berlin
BEGIN:VEVENT
UID:182@bcis-bildung.at
DTSTART;TZID=Europe/Berlin:20251209T090000
DTEND;TZID=Europe/Berlin:20251209T153000
DTSTAMP:20250611T074840Z
URL:https://bcis-bildung.at/events/eigenprodukte-sichern-arbeits-und-taeti
 gkeitsfelder-fuer-menschen-mit-behinderung-3/
SUMMARY:Eigenprodukte sichern Arbeits- und Tätigkeitsfelder für Menschen 
 mit Behinderung
DESCRIPTION:Die sich derzeit abschwächende Konjunktur wird auch die Werkst
 ätten\, die vor allem im Bereich der industriellen Fertigung tätig sind\
 , betreffen. In der Wirtschafskrise von 2008 zeigte sich\, dass viele Werk
 stätten mit einem starken Auftragsrückgang von Seiten ihrer Industriekun
 den konfrontiert wurden ohne diese durch alternativen Beschäftigungsmögl
 ichkeiten ausgleichen zu können.\n\nMit der Produktion von Eigenprodukten
  können attraktive Arbeits- und Tätigkeitsfelder für Menschen mit Behin
 derung geschaffen werden. Durch die vielfältigen Anforderungen bei der Pr
 oduktion von Eigenprodukten entstehen interessante\, rehabilitativ wertvol
 le Tätigkeiten zur Förderung von Menschen mit Behinderung.\n\nDie Fertig
 ung von Eigenprodukten schafft zusätzliche Beschäftigungsmöglichkeiten 
 und verringert die Abhängigkeit von Aufträgen aus der Industrie. Dadurch
  reduziert sich auch das Risiko von Leerlaufzeiten aufgrund fehlender Auft
 räge.\n\nEigenprodukte tragen zu einer positiven Außenwahrnehmung bei un
 d stärken die Sichtbarkeit und das Profil der Werkstatt in der Öffentlic
 hkeit. \n\nEntwicklerInnen von erfolgreichen Eigenprodukten zeichnen sich
  dadurch aus\, dass sie potentielle Märkte\, Markttrends und die spezifis
 chen Zielgruppen ihrer Produkte immer im Blick haben.\n\nUm dauerhaft mit 
 Eigenprodukten Arbeitsplätze für Menschen mit Behinderung zu schaffen\, 
 muss man bei deren Entwicklung langfristig denken und systematisch vorgehe
 n.\n\nIn diesem Seminar lernen Sie die einzelnen Schritte der nachhaltigen
  und systematischen Vorgehensweise bei der Entwicklung von Eigenprodukten 
 kennen:\n\n 	Markt\, Wettbewerber\, Trends\, Zielgruppe\, Alleinstellungsm
 erkmal\n 	Kundennutzen\, Marke\n 	Gesetzliche Regelungen (Produktsicherhei
 t\, Produkthaftung)\, Schutzrechte\n 	Produktidee\, Design\, Prototyp\, Ma
 rkttest\n 	Fertigung\, Preiskalkulation und Preisrecherche\n 	Verpackung\,
  Bedienungsanleitung\n 	Marketing\, Vertriebsstrategie\n\nTechnik:\n\n 	PC
  oder Laptop mit Kamera und Headset oder Kopfhörer\n 	GoToMeeting\n\nSie 
 können jederzeit an einem GoToMeeting Testmeeting teilnehmen\, um sich mi
 t GoToMeeting vertraut zu machen und Ihr Mikrofon/Ihre Lautsprecher zu tes
 ten\, bevor Sie an der Fortbildung teilnehmen.  https://support.goto.com/
 de/meeting/help/join-a-test-session-g2m050001\n\nZielgruppe:\n\nGeschäfts
 führung\, Bereichsleitungen\, Produktionsleitungen\, sowie an alle Person
 en\, die sich mit Eigenprodukten beschäftigen\, die ihre Eigenprodukte op
 timieren wollen oder sich überlegen Eigenprodukte zu entwickeln.\n\nDozen
 t: Michael Kattwinkel
CATEGORIES:Management und Führung,Online
END:VEVENT
BEGIN:VTIMEZONE
TZID:Europe/Berlin
X-LIC-LOCATION:Europe/Berlin
BEGIN:STANDARD
DTSTART:20251026T020000
TZOFFSETFROM:+0200
TZOFFSETTO:+0100
TZNAME:CET
END:STANDARD
END:VTIMEZONE
END:VCALENDAR