BEGIN:VCALENDAR
VERSION:2.0
PRODID:-//wp-events-plugin.com//7.2.3.1//EN
TZID:Europe/Berlin
X-WR-TIMEZONE:Europe/Berlin
BEGIN:VEVENT
UID:339@bcis-bildung.at
DTSTART;TZID=Europe/Berlin:20260624T090000
DTEND;TZID=Europe/Berlin:20260624T153000
DTSTAMP:20260414T081735Z
URL:https://bcis-bildung.at/events/einfuehrung-in-microsoft-copilot-micros
 oft-365/
SUMMARY:Einführung in Microsoft Copilot (Microsoft 365)
DESCRIPTION:Schon drei andere KI-Tools ausprobiert\, obwohl Copilot sowieso
  schon auf dem Rechner vorhanden ist?\n\nKünstliche Intelligenz hält zun
 ehmend Einzug in den Arbeitsalltag – mit Microsoft Copilot 365 steht ein
  leistungsstarkes Werkzeug zur Verfügung\, das die Arbeit mit Microsoft 3
 65 grundlegend verändert.\n\nDieser Kurs bietet einen kompakten und praxi
 snahen Überblick über die Möglichkeiten von Copilot und zeigt\, wie KI 
 gezielt zur Unterstützung im Arbeitsalltag eingesetzt werden kann: Suchen
 \, Chatten\, Dokumente\, Präsentationen und Datenanalysen erstellen. Alle
 s mit KI.\n\nDer Fokus liegt auf Orientierung und Verständnis: Die Teilne
 hmenden lernen zentrale Funktionen kennen und sehen anhand von Live-Demons
 trationen\, wie Copilot konkret eingesetzt wird.\nZielgruppe\nDer Kurs ric
 htet sich an:\n\n 	Personen\, die sich einen strukturierten Überblick üb
 er Copilot verschaffen möchten\n 	Entscheider\, die den Einsatz von KI im
  Unternehmen bewerten wollen\n 	Anwenderinnen und Anwender\, die einen Ums
 tieg oder Einstieg in Copilot erwägen\n 	Interessierte ohne oder mit erst
 en Berührungspunkten im Bereich KI\n\nThemen &amp\; Inhalte\nIm Rahmen de
 s Kurses werden folgende Inhalte behandelt:\n\n 	Copilot als zentrale Steu
 erungs- und Assistenzfunktion innerhalb von Microsoft 365\n 	Effektive Inf
 ormationssuche mit Copilot\n 	Arbeiten mit dem Copilot-Chat\n 	Einführung
  in das Konzept der „Notizbücher“ zur strukturierten Wissensarbeit\n 
 	Einsatz von Copilot in Microsoft Word\n 	Einsatz von Copilot in Microsoft
  Excel\n 	Einsatz von Copilot in Microsoft PowerPoint\n\nDie Inhalte werde
 n anhand konkreter Beispiele demonstriert – basierend auf einer kostenpf
 lichtigen Microsoft 365 Copilot-Lizenz im Rahmen einer Microsoft 365 Busin
 ess oder Enterprise-Lizenz.\nVoraussetzungen\n\n 	Grundlegende Kenntnisse 
 in der Nutzung von Microsoft 365 sind von Vorteil\n 	Vorkenntnisse im Bere
 ich Künstliche Intelligenz sind nicht erforderlich\, aber hilfreich\n 	E
 s handelt sich primär um einen Überblicks-Kurs – praktische Übungen s
 tehen nicht im Vordergrund\, es gibt aber Zeit\, Dinge auch selbst zu entd
 ecken und auszuprobieren\n\nHinweis zum Kursformat\nDer Kurs ist als kompa
 kte Einführung konzipiert. Ziel ist es\, ein fundiertes Verständnis zu v
 ermitteln und Orientierung zu geben – ideal als Entscheidungsgrundlage o
 der Einstieg in weiterführende Formate.\n\nZielgruppe: Mitarbeiterinnen u
 nd Mitarbeiter in sozialen Einrichtungen\, sowie Teilhabe- und Case Manage
 r(-innen) im sozialen Diensten\n\nDozent: Martin Kutsche\, Diplom Formgest
 alter
CATEGORIES:Online,Persönliche und soziale Kompetenzen
END:VEVENT
BEGIN:VTIMEZONE
TZID:Europe/Berlin
X-LIC-LOCATION:Europe/Berlin
BEGIN:DAYLIGHT
DTSTART:20260329T030000
TZOFFSETFROM:+0100
TZOFFSETTO:+0200
TZNAME:CEST
END:DAYLIGHT
END:VTIMEZONE
END:VCALENDAR