BEGIN:VCALENDAR
VERSION:2.0
PRODID:-//wp-events-plugin.com//7.2.3.1//EN
TZID:Europe/Berlin
X-WR-TIMEZONE:Europe/Berlin
BEGIN:VEVENT
UID:214@bcis-bildung.at
DTSTART;TZID=Europe/Berlin:20250918T090000
DTEND;TZID=Europe/Berlin:20250918T153000
DTSTAMP:20250821T065742Z
URL:https://bcis-bildung.at/events/fuehren-in-der-sandwichposition-erfolgr
 eich-als-fuehrungskraft-agieren-4/
SUMMARY:Führen in der Sandwichposition – erfolgreich als Führungskraft 
 agieren
DESCRIPTION:Als Führungskraft im  Management verortet zu sein\, ist oft w
 ie zwischen zwei Stühlen zu sitzen. Sie haben Verantwortung\, können abe
 r vieles nicht entscheiden (kein Direktionsrecht). Die Folgen sind Erschö
 pfungszustände\, Lustlosigkeit bis hin zum Burnout.\n\nDamit sie mit den 
 Tücken gut umgehen können\, befassen wir uns in diesem  Seminar mit fol
 genden Aspekten:\n\n 	Sie lernen so kommunizieren\, dass Interessengegens
 ätze zwischen Team und Vorgesetzten nicht auf Ihrem Rücken ausgetragen w
 erden.\n 	Wie sie Netzwerke aufbauen und nutzen\, um diese Ziele zu erreic
 hen.\n 	Sie lernen ihre Ansichten durchzusetzen\, ohne den anderen zu brü
 skieren.\n 	Wirkungsvoll kommunizieren und Konflikte vermeiden.\n\nZielgru
 ppe:  \n\nFührungskräfte in sozialen Einrichtungen bzw. Mitarbeiter:In
 nen die Führungsaufgaben übernehmen wollen / sollen\n\nDozent: Uwe Stein
 meyer\, Dozent für Psychologie
CATEGORIES:Management und Führung,Online
END:VEVENT
BEGIN:VTIMEZONE
TZID:Europe/Berlin
X-LIC-LOCATION:Europe/Berlin
BEGIN:DAYLIGHT
DTSTART:20250330T030000
TZOFFSETFROM:+0100
TZOFFSETTO:+0200
TZNAME:CEST
END:DAYLIGHT
END:VTIMEZONE
END:VCALENDAR