BEGIN:VCALENDAR
VERSION:2.0
PRODID:-//wp-events-plugin.com//7.2.3.1//EN
TZID:Europe/Berlin
X-WR-TIMEZONE:Europe/Berlin
BEGIN:VEVENT
UID:333@bcis-bildung.at
DTSTART;TZID=Europe/Berlin:20260915T090000
DTEND;TZID=Europe/Berlin:20260915T153000
DTSTAMP:20260217T091549Z
URL:https://bcis-bildung.at/events/fuehrung-im-werte-wandel-wie-kann-ich-m
 eine-leitungsrolle-erfolgreich-ausfuellen-4/
SUMMARY:Führung im (Werte-) Wandel – wie kann ich meine Leitungsrolle er
 folgreich ausfüllen?
DESCRIPTION:Führung erfährt in Zeiten von gesellschaftlichem Wandel auch 
 in den Kontexten der Behindertenhilfe grundlegende Veränderungen. Viele F
 ührungskräfte stellen fest\, dass die Führung von Teams zunehmend anspr
 uchsvoller wird. Dies wird auch mit den veränderten Wertegrundhaltungen b
 egründet\, die der jüngeren Generation zugesprochen werden. Die Reflexio
 n des eigenen Führungsstils\, eine mögliche (Neu-) Ausrichtung in der Wa
 hrnehmung bzgl. der praktischen Ausübung der Rolle als Führungskraft sol
 lte als kontinuierlicher Prozess stattfinden\, um den aktuellen Herausford
 erungen gewachsen zu sein.\n\nDie Auseinandersetzung mit dem persönlichen
  Wertebild\, ethischer Grundlagen und das Bewusstsein für die Bedeutung e
 motionaler Aspekte in der Leitungsrolle unterstützen bei der Suche nach d
 em inneren Kompass in der Führung von Teams in der Sozialen Arbeit.\n\nIn
 halte:\n\n 	Die Rolle als Führungskraft in der Sozialen Arbeit\n 	Welche 
 Führungsstile eignen sich für mich in dem neuen Kontext?\n 	Die Bedeutun
 g von ethischen und emotionalen Aspekten in meiner Führungsrolle\n 	Ausei
 nandersetzung mit- und Weiterentwicklung meiner Führungspersönlichkeit\n
  	Welche Herausforderungen bringen junge Menschen für mich und mein Team 
 mit und wie soll ich damit umgehen?\n\nZielgruppe:\n\nFührungskräfte aus
  Einrichtungen der Eingliederungshilfe\, aus Werkstätten\, Wohnheimen und
  ambulanten Wohnformen\, sowie Personen für die das Thema wichtig ist.\n\
 nTechnik:\n\n 	PC oder Laptop mit Kamera und Headset oder Kopfhörer\n 	Zo
 om Desktop-Client\n\nSie können jederzeit an einem Zoom Testmeeting teiln
 ehmen\, um sich mit Zoom vertraut zu machen und Ihr Mikrofon/Ihre Lautspre
 cher zu testen\, bevor Sie an der Fortbildung teilnehmen.  http://zoom.us
 /testIn neuem Fenster öffnen\n\nDozentin: Jürgen Reebmann M.A.
CATEGORIES:Management und Führung,Online
END:VEVENT
BEGIN:VTIMEZONE
TZID:Europe/Berlin
X-LIC-LOCATION:Europe/Berlin
BEGIN:DAYLIGHT
DTSTART:20260329T030000
TZOFFSETFROM:+0100
TZOFFSETTO:+0200
TZNAME:CEST
END:DAYLIGHT
END:VTIMEZONE
END:VCALENDAR