BEGIN:VCALENDAR
VERSION:2.0
PRODID:-//wp-events-plugin.com//7.2.3.1//EN
TZID:Europe/Berlin
X-WR-TIMEZONE:Europe/Berlin
BEGIN:VEVENT
UID:248@bcis-bildung.at
DTSTART;TZID=Europe/Berlin:20260225T090000
DTEND;TZID=Europe/Berlin:20260225T153000
DTSTAMP:20251125T065605Z
URL:https://bcis-bildung.at/events/gesamtplanverfahren-und-ki-3/
SUMMARY:Gesamtplanverfahren und KI
DESCRIPTION:Das Seminar zeigt praxisnah\, wie verschiedene KI-Tools – ins
 besondere ChatGPT – bei der Bearbeitung von Formularen im Gesamtplanverf
 ahren unterstützen können.\n\nErgänzend werden auch Gemini und Copilot 
 vorgestellt und live vorgeführt. Der Schwerpunkt liegt dabei klar auf Cha
 tGPT\, da es derzeit die leistungsfähigsten Funktionen für Dokumentenana
 lyse und Textgenerierung bietet. Anhand von fiktiven Klientenbeispielen le
 rnen die Teilnehmenden unterschiedliche Herangehensweisen kennen – vom e
 infachen Copy &amp\; Paste bis hin zum virtuellen Assistenten mit individu
 ellen Vorlagen.\n\nDas Seminar richtet sich an Fachkräfte in Einrichtunge
 n der Eingliederungshilfe\, die Berichte und Entwicklungsdokumentationen e
 ffizienter und präziser erstellen möchten.\n\nInhalt: \n\n 	An Formular-
  und Berichtsbeispielen aus dem Gesamtplanverfahren:\n\n\n 	\n\n 	Vorstell
 ung typischer Dokumente von der Aufnahme bis zum Entwicklungsbericht\n 	re
 alitätsnahe Bearbeitung anhand von Beispielen anonymisierten Klientensitu
 ationen\n\n\n\n\n 	KI-gestützte Herangehensweisen im Umgang mit Formulare
 n:\n\n\n 	\n\n 	Arbeiten in Word\, Google Docs und PDF-Dateien\n 	Einsatz 
 von ChatGPT\, Copilot\, Gemini und Adobe-KI\n\n\n\n\n 	Strategien:\n\n\n 	
 \n\n 	Copy &amp\; Paste als Einstieg\n 	Dokumente analysieren und Vorlagen
  generieren\n 	Nutzung von Browser-Erweiterungen\n 	Einsatz von Custom GPT
 s (eigene KI-Modelle)\n\n\n\n\n 	Vergleich der Leistungsfähigkeit der Too
 ls:\n\n\n 	\n\n 	Unterschiede zwischen Sprachmodellen und Chat-Oberfläche
 n.\n 	Vor- und Nachteile im praktischen Einsatz\n 	Empfehlungen für versc
 hiedene Anwendungsszenarien\n\n\n\nMethodik:\n\n\nVortrag und Live-Demonst
 rationen\n\n\nZiele der Schulung: \n\nDie Teilnehmenden lernen\, wie sie 
 verschiedene KI-Tools gezielt einsetzen können\, um die Arbeit mit Formul
 aren und Berichten im Gesamtplanverfahren zu erleichtern. Im Zentrum steht
  ChatGPT\, das sich durch besonders leistungsfähige Funktionen zur Dokume
 ntenanalyse und professionellen Textformulierung auszeichnet. Zusätzlich 
 werden Gemini (Google) und Copilot (Microsoft) vorgestellt und live demons
 triert\, um die Unterschiede und Einsatzmöglichkeiten transparent zu mach
 en.\n\nVoraussetzungen: \n\n 	aktueller Browser\n 	Grundkenntnisse ChatGP
 T (falls keine Grundkenntnisse vorhanden\, besuchen Sie bitte das Seminar 
 KI als Hilfe bei der Erstellung von Berichten)\n 	ChatGPT-Plus- oder -Team
 -Account\n\nZielgruppe: Fachkräfte der Eingliederungshilfe\, insbesondere
  aus Einrichtungen der Behindertenhilfe\, die mit dem Gesamtplanverfahren 
 arbeiten und ihre Dokumentationsprozesse effizienter gestalten möchten.\n
 \nTechnik:\n\n 	einen PC oder Laptop (empfehlenswert: großer Bildschirm)\
 n 	stabile Internetverbindung\n 	eine Webcam (bei Laptops eingebaut)\n 	He
 adset oder Kopfhörer\n\nSie können jederzeit an einem Zoom Testmeeting t
 eilnehmen\, um sich mit Zoom vertraut zu machen und Ihr Mikrofon/Ihre Laut
 sprecher zu testen\, bevor Sie an der Fortbildung teilnehmen.  http://zoo
 m.us/testIn neuem Fenster öffnen\n\nDozent: Martin Kutsche\, Diplom Formg
 estalter
CATEGORIES:Management und Führung,Online
END:VEVENT
BEGIN:VTIMEZONE
TZID:Europe/Berlin
X-LIC-LOCATION:Europe/Berlin
BEGIN:STANDARD
DTSTART:20251026T020000
TZOFFSETFROM:+0200
TZOFFSETTO:+0100
TZNAME:CET
END:STANDARD
END:VTIMEZONE
END:VCALENDAR