BEGIN:VCALENDAR
VERSION:2.0
PRODID:-//wp-events-plugin.com//7.2.3.1//EN
TZID:Europe/Berlin
X-WR-TIMEZONE:Europe/Berlin
BEGIN:VEVENT
UID:249@bcis-bildung.at
DTSTART;TZID=Europe/Berlin:20260119T090000
DTEND;TZID=Europe/Berlin:20260119T153000
DTSTAMP:20251125T065038Z
URL:https://bcis-bildung.at/events/gewalt-in-der-betreuung-3/
SUMMARY:Gewalt in der Betreuung
DESCRIPTION:Gib der Gewalt keine Chance!\n\nGewalt findet sich überall in 
 unserer Gesellschaft und gerade in den letzten eineinhalb Jahren ist durch
  die Corona-Pandemie die Gewaltbereitschaft in unserer Gesellschaft stark 
 gestiegen! Stress\, hoher Termindruck und fehlender Ausgleich sind hier m
 ögliche Indikatoren!\n\nGewalt macht auch in unserem beruflichen Umfeld n
 icht halt! Gerade im Bereich der Eingliederungshilfe stellt Gewaltanwendun
 g eine hohe Belastung für Pflege- und Betreuungspersonen dar\, aber auch 
 für betreute Personen! Doch was genau ist Gewalt\, welche Formen der Gewa
 lt gibt es und wo kommt es ggf. zu Gewaltanwendung? Häufig entsteht Gewal
 t da\, wo wir uns dessen nicht einmal bewusst sind!\n\nDiese Fortbildung s
 oll den Teilnehmern helfen\, sich mit dem Thema Gewalt besser auseinander 
 setzen zu können. Sie soll befähigen\, Gewalt in ihren unterschiedlichst
 en Formen zu erfassen und mutig und richtig gegen angewendete Gewalt vorzu
 gehen!\n\nDiese Fortbildung soll aber auch gezielt sensibilisieren\, Gewal
 tanwendung frühzeitig zu erkennen\, um präventiv aktiv werden zu können
 . Sie soll die Teilnehmer stärken\, in Gewaltsituationen richtig und verh
 ältnismäßig zu reagieren sowie Selbstsicherheit\, Selbstvertrauen und d
 eeskalierende Verhaltensmöglichkeiten vermitteln!\n\nWeiterhin geht es in
  dieser Fortbildung aber auch um den Eigenschutz sowie über Möglichkeite
 n der Selbstverteidigung\, falls man selbst einmal Opfer von Gewaltanwendu
 ng wird!\n\nZiele des Seminars\n\n 	Entwicklung von Fachwissen in betreuer
 ischen Sondersituationen wie Gewalt! Gewalt erkennen und mutig handeln!\n 
 	Sensibilisierung\n 	Stärkung des Selbstverständnisses sowie des Selbstv
 ertrauens\n 	Entwicklung von individuelle Schutzmechanismen sowie individu
 ellen Maßnahmen zur Gewaltprävention\n 	Entwicklung von Lösungsideen im
  Umgang mit Gewalt\n 	Entwicklung von verhältnismäßigen Verhaltensweise
 n in akuten Gewaltsituationen\n 	Förderung des Eigen- und Selbstschutzes\
 n\nTechnik:\n\n 	PC oder Laptop mit Kamera und Headset oder Kopfhörer\n 	
 GoToMeeting\n\nSie können jederzeit an einem GoToMeeting Testmeeting teil
 nehmen\, um sich mit GoToMeeting vertraut zu machen und Ihr Mikrofon/Ihre 
 Lautsprecher zu testen\, bevor Sie an der Fortbildung teilnehmen.  https:
 //support.goto.com/de/meeting/help/join-a-test-session-g2m050001\n\nZielgr
 uppe:    \n\nFachkräfte in der Behindertenhilfe\, Therapeutische Fachk
 räfte\, Alten-\, Krankenpflege\, Helferinnen und Helfer \, welche sich ü
 ber das Thema „Gewalt in der Betreuung von Menschen“ informieren wolle
 n.\n\nDozent: Thomas Brucker
CATEGORIES:Aggression | Gewaltprävention |Herausforderndes
 Verhalten,Online
END:VEVENT
BEGIN:VTIMEZONE
TZID:Europe/Berlin
X-LIC-LOCATION:Europe/Berlin
BEGIN:STANDARD
DTSTART:20251026T020000
TZOFFSETFROM:+0200
TZOFFSETTO:+0100
TZNAME:CET
END:STANDARD
END:VTIMEZONE
END:VCALENDAR