BEGIN:VCALENDAR
VERSION:2.0
PRODID:-//wp-events-plugin.com//7.2.3.1//EN
TZID:Europe/Berlin
X-WR-TIMEZONE:Europe/Berlin
BEGIN:VEVENT
UID:257@bcis-bildung.at
DTSTART;TZID=Europe/Berlin:20260511T090000
DTEND;TZID=Europe/Berlin:20260511T153000
DTSTAMP:20251125T070818Z
URL:https://bcis-bildung.at/events/immer-intensiveres-herausforderndes-ver
 halten-wie-kann-ich-das-aushalten-lernen-8/
SUMMARY:Immer intensiveres herausforderndes Verhalten – Wie kann ich das 
 AUSHALTEN LERNEN?
DESCRIPTION:Es ist unverkennbar und Alltag in unseren Einrichtungen und Die
 nsten: herausforderndes Verhalten belastet uns alle bis an die individuell
 en  Grenzen! Wie ist die stetige Zunahme von diesen Verhaltensweisen zu e
 rklären?\n\nGibt es einen Zusammenhang in der Tendenz zu größerer Herau
 sforderung und Gewalt und der Zunahme an psychischen Erkrankungen vom Kind
 esalter über das Erwachsenen- bis zum Seniorenalter?\n\nWie ist zu erklä
 ren\, dass bereits bei Kindern und Jugendlichen  verstärkt soziogene Bee
 inträchtigungen ihre Teilhabe im Leben der Gemeinschaft massiv einschrän
 ken?\n\nWelche Alternativen zu herausfordernden Verhalten von Menschen mit
  Behinderungen können wir entwickeln?\n\nIst das „Erdulden“ und „Ab
 wehren“ von auto-\, sach- und fremdaggressiven Handlungen und vielfälti
 ger Provokationen möglich?\n\nInhalte:\n\nEs soll im Seminar Klarheit üb
 er die Formen und Ursachen von herausfordernden Verhalten geschaffen werde
 n.\n\nIm Mittelpunkt stehen das Verstehen-Können von herausfordernden Ver
 halten von Menschen mit schweren kognitiven Einschränkungen. Von besonder
 er Bedeutung ist auch\, unsere Aufmerksamkeit auf Menschen in unseren Dien
 sten und Einrichtungen zu richten\, die sowohl geistig behindert als auch 
 psychisch krank sind.\n\nAus dem Verstehen werden Alternativen entwickelt\
 , wie dem herausfordernden Verhalten begegnet werden kann.\n\nLetztlich ge
 ht es auch um die Meisterung von Krisen in unserem professionellen Alltag.
  Dabei findet auch Berücksichtigung\, wie durch Selbstmanagement das „A
 ushalten der Belastungen“ und eine wirksame Gefühlsregulierung möglich
  ist.\n\nZiel des Seminars:\n\n 	Sie entwickeln neues Fachwissen in Sonder
 situationen.\n 	Sie lernen in Übungen und Fallbeispielen Situationen von 
 herausfordernden Verhalten früher zu erkennen und differenzierter zu stru
 kturieren.\n 	 Sie stärken ihr Selbstverständnis und entwickeln Grundla
 gen für individuelle Schutzmechanismen in Ihrem Aufgabenbereich weiter.\n
 \nZielgruppe:\n\nFachkräfte in der Jugend- und Behindertenhilfe\, Therape
 utische Fachkräfte\, Helferinnen und Helfer in vorgenannten Arbeitsfelder
 n mit Berufserfahrung.\n\nTechnik:\n\n 	PC oder Laptop mit Kamera und Head
 set oder Kopfhörer\n 	Zoom\n\nDozent: Dr. paed. Gert Heinicke
CATEGORIES:Aggression | Gewaltprävention |Herausforderndes
 Verhalten,Online
END:VEVENT
BEGIN:VTIMEZONE
TZID:Europe/Berlin
X-LIC-LOCATION:Europe/Berlin
BEGIN:DAYLIGHT
DTSTART:20260329T030000
TZOFFSETFROM:+0100
TZOFFSETTO:+0200
TZNAME:CEST
END:DAYLIGHT
END:VTIMEZONE
END:VCALENDAR