BEGIN:VCALENDAR
VERSION:2.0
PRODID:-//wp-events-plugin.com//7.2.3.1//EN
TZID:Europe/Berlin
X-WR-TIMEZONE:Europe/Berlin
BEGIN:VEVENT
UID:218@bcis-bildung.at
DTSTART;TZID=Europe/Berlin:20251127T090000
DTEND;TZID=Europe/Berlin:20251127T153000
DTSTAMP:20250924T064125Z
URL:https://bcis-bildung.at/events/ki-als-hilfe-bei-der-erstellung-von-ber
 ichten/
SUMMARY:KI als Hilfe bei der Erstellung von Berichten
DESCRIPTION:Künstliche Intelligenz kann und wird den Menschen nicht ersetz
 en\, aber ihm die Arbeit erleichtern.\n\nDie Berichterstellung im sozialen
  Bereich\, stellt oft eine große Herausforderung dar. Sie ist dann und wa
 nn mit Hemmschwellen verbunden\, die sowohl auf Zeitmangel als auch auf Un
 sicherheiten im Umgang mit Berichten zurückzuführen sind. Die Nutzung te
 xtbasierter Künstlicher Intelligenz (KI) kann zwar die menschliche Einsch
 ätzung in der Beurteilung von Betreuungs- und Pflegefällen nicht ersetze
 n\, jedoch als unterstützendes Hilfsmittel zur Seite stehen.\n\nKI kann i
 nsbesondere Struktur- und Formulierungsvorschläge liefern und dabei auch 
 helfen\, zeitliche Engpässe zu entschärfen und Schreibblockaden zu über
 winden.  Diese Technologien ermöglichen es\, Berichte effizienter zu ers
 tellen und dabei insbesondere Vorgaben wie Bedarfserfassungs- und Teilhabe
 pläne und weitere die Anforderungen der Träger der Eingliederungshilfe z
 u berücksichtigen.\n\nInhalt: \n\n 	KI / Künstliche Intelligenz: Begriff
 e und Orientierung\n 	KI zur Textgenerierung am Beispiel ChatGPT\n 	Einfü
 hrung Oberfläche ChatGPT und erste Beispiele\n 	(Entwicklungs-) Bericht u
 nd KI\n 	Übung: eigener Bericht / eigene Fragestellung\n 	Prüfung der Er
 gebnisse\n 	Zusammenfassung: erlernte Techniken beim Prompting („Prompt-
 Engineering“)\n 	KI-Tools: Alternativen zu ChatGPT\n 	Einbindung KI in G
 esamtprozess\n 	Datenschutz\n 	Aufwand und Nutzen\n\nZiele der Schulung\n\
 n 	Vermittlung von Grundlagenwissen über Textgenerierung mit KI\n 	Vermit
 tlung von Kompetenzen zur effizienten und strukturierten Fragestellung an 
 die KI („Prompten“)\n 	Erarbeitung eines Beispielberichts im Rahmen pr
 aktischer Übungen\n 	Einbindung von KI in den administrativen Gesamtproze
 ss: Ansätze zur Zusammenarbeit mit Software\, Portalen und Formularen Dri
 tter\n 	Sensibilisierung für Aspekte wie Datenschutz\, Nachrecherche und 
 die Bedeutung der eigenen Expertise bei der KI-Nutzung\n\nZielgruppe:  Mit
 arbeiterinnen und Mitarbeiter in sozialen Einrichtungen\, sowie Teilhabe- 
 und Case Manager(-innen) im sozialen Diensten\n\nDozentin: Martin Kutsche\
 , Diplom Formgestalter
CATEGORIES:Digitalisierung und IT-Kompetenz,Online
END:VEVENT
BEGIN:VTIMEZONE
TZID:Europe/Berlin
X-LIC-LOCATION:Europe/Berlin
BEGIN:STANDARD
DTSTART:20251026T020000
TZOFFSETFROM:+0200
TZOFFSETTO:+0100
TZNAME:CET
END:STANDARD
END:VTIMEZONE
END:VCALENDAR