BEGIN:VCALENDAR
VERSION:2.0
PRODID:-//wp-events-plugin.com//7.2.3.1//EN
TZID:Europe/Berlin
X-WR-TIMEZONE:Europe/Berlin
BEGIN:VEVENT
UID:298@bcis-bildung.at
DTSTART;TZID=Europe/Berlin:20260304T090000
DTEND;TZID=Europe/Berlin:20260304T153000
DTSTAMP:20251125T065731Z
URL:https://bcis-bildung.at/events/mehr-zeit-fuer-das-wesentliche-7/
SUMMARY:Mehr Zeit für das Wesentliche
DESCRIPTION:Freiräume schaffen - Ziele erreichen\nWerden Sie zu einem erfo
 lgreichen Manager ihrer Zeit. Zeitmanagement bedeutet\, den Arbeitsalltag 
 effizient zu organisieren und die „richtigen“ Aufgaben zur „richtige
 n“ Zeit und mit der geforderten Qualität zu erledigen. Wer seine Zeit r
 ichtig nutzt und Prioritäten setzt\, hat eine bessere Übersicht und kann
  sich stärker auf die Arbeitsabläufe konzentrieren. Stress sowie Zeitdru
 ck können vermieden und kreative Freiräume für die persönliche oder be
 rufliche Weiterentwicklung gewonnen werden.\n\nIn diesem Seminar zeigen wi
 r Ihnen Wege auf\, wie Sie mit einfachen Methoden und Hilfsmitteln die vor
 handene Zeit besser für das Erreichen beruflicher und privater Ziele nutz
 en und unwichtige zeit- und energieraubende Tätigkeiten im Arbeitsalltag 
 reduzieren können. Es ist nicht zu wenig Zeit\, die wir haben\, sondern z
 u viel Zeit\, die wir nicht richtig nutzen.\n\nUnsere Dozenten verfügen 
 über einen hohen Praxisbezug und vermitteln Ihnen die Seminarinhalte vers
 tändlich und unkompliziert. Wir setzen dabei auf einen interaktiven Dialo
 g.\n\nInhalte:\n\n 	Zeit- und Selbstmanagement\n 	GTD-Methode\, Work-Life-
 Balance\n 	Den eigenen Arbeitsstil besser managen\n 	Selbstorganisation un
 d Selbstmotivation\n\nIhr Nutzen:\n\n 	Sie lernen klassische Zeitmanagemen
 t-Methoden kennen\n 	Sie analysieren Ihren Arbeitsstil und optimieren Ihre
  Arbeitsmethodik\n 	Sie lernen Prioritäten zu setzen und erhalten direkt 
 umsetzbare Anregungen\n 	Sie erfahren\, wie Sie Ihr Zeit- und Selbstmanage
 ment nachhaltig verbessern können\n\nTechnik:\n\n 	PC oder Laptop mit Kam
 era und Headset oder Kopfhörer\n 	GoToMeeting\n\nSie können jederzeit an
  einem GoToMeeting Testmeeting teilnehmen\, um sich mit GoToMeeting vertra
 ut zu machen und Ihr Mikrofon/Ihre Lautsprecher zu testen\, bevor Sie an d
 er Fortbildung teilnehmen.  https://support.goto.com/de/meeting/help/join
 -a-test-session-g2m050001\n\nZielgruppe: Fach- und Führungskräfte aus al
 len Unternehmens- und Verwaltungsbereichen sowie alle Personen\, die ihr Z
 eit- und Selbstmanagement und ihre Arbeitstechnik gezielt verbessern möch
 ten.\n\nDozent: Dipl. Wirtschaft. Ing. Bernd Wagenknecht\n\nDatum: 15.05.2
 025 eintägig
CATEGORIES:Digitalisierung und IT-Kompetenz,Online
END:VEVENT
BEGIN:VTIMEZONE
TZID:Europe/Berlin
X-LIC-LOCATION:Europe/Berlin
BEGIN:STANDARD
DTSTART:20251026T020000
TZOFFSETFROM:+0200
TZOFFSETTO:+0100
TZNAME:CET
END:STANDARD
END:VTIMEZONE
END:VCALENDAR