BEGIN:VCALENDAR
VERSION:2.0
PRODID:-//wp-events-plugin.com//7.2.3.1//EN
TZID:Europe/Berlin
X-WR-TIMEZONE:Europe/Berlin
BEGIN:VEVENT
UID:262@bcis-bildung.at
DTSTART;TZID=Europe/Berlin:20260223T090000
DTEND;TZID=Europe/Berlin:20260223T153000
DTSTAMP:20251125T065544Z
URL:https://bcis-bildung.at/events/menschen-mit-erworbenen-hirnschaedigung
 en-in-der-beruflichen-rehabilitation-und-der-teilhabe-am-arbeitsleben-5/
SUMMARY:Menschen mit erworbenen Hirnschädigungen in der beruflichen Rehabi
 litation und der Teilhabe am Arbeitsleben
DESCRIPTION:Menschen mit durch Unfall oder Erkrankung erworbenen Hirnschäd
 igungen bringen aufgrund des Bruchs in ihrem Leben und den daraus resultie
 renden vielfältigen und speziellen Einschränkungen mit zum Teil stark ve
 ränderten Verhaltensweisen eine neue Herausforderung in sämtliche Bereic
 he unserer existierenden sozialen Hilfesysteme. Zudem gibt es ganz neue Be
 dürfnisse von Unterstützung und Umgang miteinander im Alltag. Bei uns al
 s den verantwortlichen Bezugspersonen reichen möglicherweise die vorhande
 nen Kompetenzen nicht aus und es können Reaktionen aus Hilflosigkeit und 
 Überforderung entstehen. Wir wollen jedoch in unserer täglichen Arbeit s
 innvoll handlungsfähig bleiben und realistische Perspektiven entwickeln k
 önnen.\n\nDieses eintägige Grundlagenseminar vermittelt die notwendigen 
 Grundlagen\, um diesem heterogenen Personenkreis gerecht werden zu können
 . Die Teilnehmer sollen vom allgemeinen Verständnis der Funktionsweise vo
 n Gehirnstrukturen und deren Schädigung zum Verständnis für die Ressour
 cen der Betroffenen gelangen und daraus abgeleitete Möglichkeiten\, Hilfe
 n und Perspektiven für den Alltag entwickeln können.\n\nInhalte: \n\n 	
 Aufbau und Struktur des Gehirns\n 	Repräsentation der (für den Alltag) w
 ichtigsten kognitiven und exekutiven Funktionen\n 	Arten der Schädigung d
 es Gehirns\, der Hirnhäute und der neuronalen Strukturen\n 	Störungsbild
 er\, die aus diesen Schädigungen resultieren können\n 	Veränderungen in
  Wahrnehmung\, Ausdruck und Verhalten\, die aus diesen Störungsbildern re
 sultieren können\n 	Professioneller Umgang mit diesen wahrgenommenen Ver
 änderungen im Hinblick auf den Alltag\, die notwendigen Rahmenbedingungen
  und die Teilhabe am Arbeitsleben bzw. der beruflichen Rehabilitation\n\nT
 echnik:\n\n 	PC oder Laptop mit Kamera und Headset oder Kopfhörer\n 	GoTo
 Meeting\n\nSie können jederzeit an einem GoToMeeting Testmeeting teilnehm
 en\, um sich mit GoToMeeting vertraut zu machen und Ihr Mikrofon/Ihre Laut
 sprecher zu testen\, bevor Sie an der Fortbildung teilnehmen.  https://su
 pport.goto.com/de/meeting/help/join-a-test-session-g2m050001\n\nZielgruppe
 : \n\n 	Fachkräfte im Berufsbildungs- und Arbeitsbereich\, sowie Mitarbe
 iterInnen der Begleitenden Dienste\n 	MitarbeiterInnen in sozialen Einrich
 tungen\, die Menschen mit einer erworbenen Hirnschädigung betreuen\n\nDoz
 ent: Dipl.-Psych. Roland Haag
CATEGORIES:Grundlagen der pädagogischen Arbeit,Online
END:VEVENT
BEGIN:VTIMEZONE
TZID:Europe/Berlin
X-LIC-LOCATION:Europe/Berlin
BEGIN:STANDARD
DTSTART:20251026T020000
TZOFFSETFROM:+0200
TZOFFSETTO:+0100
TZNAME:CET
END:STANDARD
END:VTIMEZONE
END:VCALENDAR