BEGIN:VCALENDAR
VERSION:2.0
PRODID:-//wp-events-plugin.com//7.2.3.1//EN
TZID:Europe/Berlin
X-WR-TIMEZONE:Europe/Berlin
BEGIN:VEVENT
UID:264@bcis-bildung.at
DTSTART;TZID=Europe/Berlin:20260310T090000
DTEND;TZID=Europe/Berlin:20260310T153000
DTSTAMP:20251125T065744Z
URL:https://bcis-bildung.at/events/narzissmus-erfolgreicher-umgang-mit-nar
 zissten-im-paedagogischen-alltag-4/
SUMMARY:Narzissmus – erfolgreicher Umgang mit Narzissten im pädagogische
 n Alltag
DESCRIPTION:Narzisstische Persönlichkeiten stellen Pädagoginnen und Päda
 gogen und Vorgesetzte immer wieder vor große Herausforderungen.\n\nBesond
 ers schwierig ist die Tatsache zu bewerten\, dass Menschen mit subklinisch
 en narzisstischen Tendenzen oder aber einer eindeutigen narzisstischen Per
 sönlichkeitsstörung im Alltag keine Störungs- oder Fehlereinsicht zeige
 n\, was die Arbeit für die Mitarbeitenden zu einer besonderen Herausforde
 rung werden lässt.\n\nFür die Fachkräfte stellt sich daher die Frage: W
 ie können\, einerseits\, die Betroffenen gut begleitet und integriert wer
 den und andererseits wie kann das Team gestärkt werden?\n\nSie erarbeiten
  Strategien und Möglichkeiten für adäquate pädagogische Begleitung um 
 konfliktvermeidend mit narzisstischen Persönlichkeiten arbeiten zu könne
 n und bei Krisen zu intervenieren.\n\nAnhand praktischer Fallbeispiele üb
 en Sie den Umgang in verschiedenen Situationen und können auch eigene Pra
 xisfälle zur Diskussion stellen.\n\nZielgruppe: Fachkräfte im Behinderte
 nbereich\n\nTechnik:\n\n 	PC oder Laptop mit Kamera und Headset oder Kopfh
 örer\n 	Zoom Desktop-Client\n\nSie können jederzeit an einem Zoom Testme
 eting teilnehmen\, um sich mit Zoom vertraut zu machen und Ihr Mikrofon/Ih
 re Lautsprecher zu testen\, bevor Sie an der Fortbildung teilnehmen.  htt
 p://zoom.us/testIn neuem Fenster öffnen\n\nDozentin: Uwe Steinmeyer Dozen
 t für Verhaltenstherapie
CATEGORIES:Behinderung | Krankheitsbilder | Störungen,Online
END:VEVENT
BEGIN:VTIMEZONE
TZID:Europe/Berlin
X-LIC-LOCATION:Europe/Berlin
BEGIN:STANDARD
DTSTART:20251026T020000
TZOFFSETFROM:+0200
TZOFFSETTO:+0100
TZNAME:CET
END:STANDARD
END:VTIMEZONE
END:VCALENDAR