BEGIN:VCALENDAR
VERSION:2.0
PRODID:-//wp-events-plugin.com//7.2.3.1//EN
TZID:Europe/Berlin
X-WR-TIMEZONE:Europe/Berlin
BEGIN:VEVENT
UID:302@bcis-bildung.at
DTSTART;TZID=Europe/Berlin:20260127T090000
DTEND;TZID=Europe/Berlin:20260127T153000
DTSTAMP:20251125T065215Z
URL:https://bcis-bildung.at/events/projektmanagement-einstieg-fuer-projekt
 leiter-und-mitarbeitende-5/
SUMMARY:Projektmanagement – Einstieg für Projektleiter und -mitarbeitend
 e
DESCRIPTION:Erfolgreich Projekte und komplexe Aufgaben bearbeiten\n\nDas Pr
 ojektmanagement umfasst die Planung\, Steuerung und Kontrolle von Projekte
 n. Der Erfolg eines Projektes ist abhängig von fachlichen und sozialen Ko
 mpetenzen der Projektbeteiligten und einem effizienten Projektmanagement. 
 Sie werden bald Ihr erstes Projekt leiten oder haben es bereits gestartet?
  Sie werden in einem Projekt arbeiten oder stehen vor komplexen Aufgaben u
 nd wollen Ihre Schlüsselkompetenzen erweitern oder einfach auffrischen?\n
 \nSeminarziele\n\nIn diesem Kompaktseminar erhalten Sie einen Überblick u
 nd einen praxisorientierten Einstieg in die Grundlagen des Projektmanageme
 nts. Lernen Sie\, wie Sie Projekte starten\, steuern und beenden.  Praxis
 nahe Beispiele zeigen\, wie Sie Ihre Arbeit als Projektleiter oder -mitarb
 eitende vereinfachen können. Mit einer einfachen Projektorganisation kön
 nen Sie Projekte und komplexe Aufgaben strukturieren\, realistische Pläne
  entwickeln\, ergebnisorientiert und termingerecht führen und mit Erfolg 
 abschließen.\n\nSeminarinhalte\n\n 	Grundlagen des Projektmanagements –
  Definition und Projekttypen\n 	Organisationsformen und Rollen im Projekt\
 n 	Projektplanung - Ziele eines Projektes\, der Projektauftrag\n 	Auswahl 
 des Projektteams – die richtigen Mitspieler einbinden\n 	Projekte einfac
 h vorbereiten und starten – Planung ist der halbe Erfolg\n 	Phasen und M
 eilensteine – eine gute Struktur ist wichtig\n 	Wie führe und steuere i
 ch ein Projekt – wichtige Methoden\, Werkzeuge\n 	Kommunikation – eine
  positive Projektkultur und Umgang mit Abweichungen\n 	Das Berichtswesen 
 – alle gut informieren\n 	Das Wichtige im Blick behalten – Überwachun
 g\, Steuerung der Risiken\n 	Der Projektabschluss – Abschlussbericht\, A
 bschlussfeier\n 	Fallbeispiele\, Übungen und Raum für Diskussionen\n\nIh
 r Nutzen\n\n 	Sie erlernen bewährte Grundlagen\, Methoden und praktische 
 Hilfen für Ihre Projektarbeit\, die Sie nach dem Seminar sofort umsetzen 
 können\n 	Mit einem einfachen Leitfaden und praxisnahen Werkzeugen verfü
 gen Sie über wichtige Hilfsmittel\, die eine erfolgreiche Projektarbeit u
 nterstützen\n\nZielgruppe \n\nProjektleiter\, Projektmitarbeitende\, Fac
 h- und Führungskräfte aus allen Unternehmens-\, Verwaltungs-\, Wohn- und
  Werkstattbereichen und alle Personen\,\n\nTechnik:\n\n 	PC oder Laptop mi
 t Kamera und Headset oder Kopfhörer\n 	GoToMeeting\n\nSie können jederze
 it an einem GoToMeeting Testmeeting teilnehmen\, um sich mit GoToMeeting v
 ertraut zu machen und Ihr Mikrofon/Ihre Lautsprecher zu testen\, bevor Sie
  an der Fortbildung teilnehmen.  https://support.goto.com/de/meeting/help
 /join-a-test-session-g2m050001\n\nDozent: Dipl. Wirtschaft. Ing. Bernd Wag
 enknecht
CATEGORIES:Management und Führung,Online
END:VEVENT
BEGIN:VTIMEZONE
TZID:Europe/Berlin
X-LIC-LOCATION:Europe/Berlin
BEGIN:STANDARD
DTSTART:20251026T020000
TZOFFSETFROM:+0200
TZOFFSETTO:+0100
TZNAME:CET
END:STANDARD
END:VTIMEZONE
END:VCALENDAR