BEGIN:VCALENDAR
VERSION:2.0
PRODID:-//wp-events-plugin.com//7.2.3.1//EN
TZID:Europe/Berlin
X-WR-TIMEZONE:Europe/Berlin
BEGIN:VEVENT
UID:340@bcis-bildung.at
DTSTART;TZID=Europe/Berlin:20260623T090000
DTEND;TZID=Europe/Berlin:20260624T153000
DTSTAMP:20260415T060259Z
URL:https://bcis-bildung.at/events/psychisch-erkrankt-oder-nur-auffaellig-
 6/
SUMMARY:Psychisch erkrankt oder nur auffällig?
DESCRIPTION:Zunehmend werden Menschen in Werkstätten und Wohneinrichtungen
  aufgenommen\, die Verhaltensauffälligkeiten zeigen oder unter psychische
 n Störungen leiden.\n\nOftmals ist dabei die Abgrenzung zwischen Verhalte
 nsauffälligkeit und psychischer Störung nicht klar erkennbar und es best
 ehen Unsicherheiten im pädagogischen Umgang.\n\nIn diesem Seminar lernen 
 Sie die grundlegenden Merkmale von Verhaltensauffälligkeiten und wesentli
 chen Störungsbildern kennen und das pädagogische Verhältnis zu den Besc
 häftigten optimal zu gestalten. Darüber hinaus erkennen Sie\, wann fachp
 sychologische oder medizinische Hilfe erforderlich wird  und werden somit
  entscheidungssicherer.\n\nTag 1\n\n 	Abgrenzung Psychische Störung und V
 erhaltensauffälligkeit\n 	Erhebung notwendiger Anamnesedaten (in Anlehnun
 g an Prof. Theunissen)\n 	Grundlagen der Entstehung psychischer Störungen
 \n 	Die ICD 10 - Aufbau und Verwendung\n 	Wesentliche Störungsbilder und 
 der erfolgreiche pädagogische Umgang mit betroffenen Beschäftigten insbe
 sondere:\n\n 	Affektive Störungen (Depression\, Manie\, bipolare Störung
 )\n 	Angststörungen\n 	Anpassungsstörung\n 	Fallstudien\n\n\n\nTag 2\n\n
  	Persönlichkeitsstörungen (Vertiefte Behandlung der narzisstische Pers
 önlichkeitsstörung und Borderline)\n 	Im Zusammenhang auftretende Störu
 ngsbilder und Leitsymptomatik\n 	Psychotischer Formenkreis (Schizophrenie)
 \n 	Fallstudien\n\nZielgruppe: Mitarbeiterinnen und Mitarbeiter in soziale
 n Einrichtungen\, die mit Psychisch kranken Menschen arbeiten\n\nTechnik:\
 n\n 	einen PC oder Laptop\n 	stabile Internetverbindung\n 	eine Webcam (be
 i Laptops eingebaut)\n 	Headset oder Kopfhörer\n\nDozent: Uwe Steinmeyer
   Dozent für Psychologie
CATEGORIES:Behinderung | Krankheitsbilder | Störungen,Online
END:VEVENT
BEGIN:VTIMEZONE
TZID:Europe/Berlin
X-LIC-LOCATION:Europe/Berlin
BEGIN:DAYLIGHT
DTSTART:20260329T030000
TZOFFSETFROM:+0100
TZOFFSETTO:+0200
TZNAME:CEST
END:DAYLIGHT
END:VTIMEZONE
END:VCALENDAR