BEGIN:VCALENDAR
VERSION:2.0
PRODID:-//wp-events-plugin.com//7.2.3.1//EN
TZID:Europe/Berlin
X-WR-TIMEZONE:Europe/Berlin
BEGIN:VEVENT
UID:219@bcis-bildung.at
DTSTART;TZID=Europe/Berlin:20251211T090000
DTEND;TZID=Europe/Berlin:20251211T153000
DTSTAMP:20251117T074358Z
URL:https://bcis-bildung.at/events/psychische-erkrankungen-im-sozialpaedag
 ogischen-kontext/
SUMMARY:Psychische Erkrankungen im sozialpädagogischen Kontext
DESCRIPTION:In diesem Seminar werden verschiedene Blickwinkel zusammengefü
 hrt: sozialpädagogisches Handeln\, psychologisches Verständnis und psych
 otherapeutische Tiefe.\n\nIm Fokus steht die Frage\, wo Pädagogik aufhör
 t und Psychotherapie beginnt\, welche Schnittstellen und Unterschiede best
 ehen und wie Fachkräfte diese Übergänge im Alltag sicher gestalten kön
 nen. Durch diesen multiperspektivischen Zugang werden Unterschiede\, Über
 schneidungen und Ergänzungen sichtbar und praxisnah erlebbar.\n\nPsychisc
 he Erkrankungen gehören zu den häufigsten Herausforderungen in unserer G
 esellschaft und haben großen Einfluss auf Lebenswege\, Beziehungen und Te
 ilhabe. Auch im sozialpädagogischen Arbeitsfeld begegnen Fachkräfte Klie
 nt*innen\, deren Verhalten und Entwicklung stark von psychischen Belastung
 en geprägt sind.\n\nDiese Fortbildung vermittelt grundlegendes Wissen zu 
 den häufigsten Störungsbildern und beleuchtet praxisnah deren Bedeutung 
 für die pädagogische Arbeit. Dabei wird besonderes Augenmerk auf die Rol
 le von Fachkräften\, die Grenzen zwischen verschiedenen Professionen und 
 die Perspektive von Betroffenen sowie Angehörigen gelegt.\n\nInhalte:\n\n
  	Überblick über häufige psychische Erkrankungen\n 	Auswirkungen psychi
 scher Erkrankungen auf Alltag\, Entwicklung und soziale Beziehungen\n 	Fal
 lbeispiele aus der Praxis: Wahrnehmung und Umgang im pädagogischen Alltag
 \n 	Schnitstellen von Pädagogik\, Psychologie und Psychotherapie: Abgrenz
 ung und Zusammenarbeit\n 	Angehörige als Ressource und Herausforderung\n 
 	Reflexion der Eigenen Rolle und professioneller Grenzen\n\nZiele:\n\n 	Gr
 undlagenwissen zu zentralen psychischen Erkrankungen erwerben bzw. auffris
 chen\n 	Sicherheit im Umgang mit psychisch belasteten Klient*innen gewinne
 n\n 	Handlungsmöglichkeiten im sozialpädagogischen Alltag erweitern\n 	K
 larheit über die Rolle der Fachkraft im multiprofessionellen Kontext entw
 ickeln\n 	Sensibilisierung für die Perspektive Betroffener und ihrer Ange
 hörigen\n 	Stärkung von Selbstfürsorge und professioneller Abgrenzung\n
 \nTechnik:\n\n 	PC oder Laptop mit Kamera und Headset oder Kopfhörer\n 	Z
 oom Desktop-Client\n\nSie können jederzeit an einem Zoom Testmeeting teil
 nehmen\, um sich mit Zoom vertraut zu machen und Ihr Mikrofon/Ihre Lautspr
 echer zu testen\, bevor Sie an der Fortbildung teilnehmen. http://zoom.us/
 testIn neuem Fenster öffnenIn neuem Fenster öffnen\n\nZielgruppe: \n\nFa
 chkräfte aus der Sozialpädagogik\, Sozialarbeit\, Betreuung\, Pflege sow
 ie angrenzenden pädagogischen und psychosozialen Arbeitsfeldern.\n\nDozen
 tin: Christina Radl\, MA\, MSc Sozialpädagogin\, Psychologin und Psychoth
 erapeutin in Ausbildung unter Supervision
CATEGORIES:Online
END:VEVENT
BEGIN:VTIMEZONE
TZID:Europe/Berlin
X-LIC-LOCATION:Europe/Berlin
BEGIN:STANDARD
DTSTART:20251026T020000
TZOFFSETFROM:+0200
TZOFFSETTO:+0100
TZNAME:CET
END:STANDARD
END:VTIMEZONE
END:VCALENDAR