BEGIN:VCALENDAR
VERSION:2.0
PRODID:-//wp-events-plugin.com//7.2.3.1//EN
TZID:Europe/Berlin
X-WR-TIMEZONE:Europe/Berlin
BEGIN:VEVENT
UID:161@bcis-bildung.at
DTSTART;TZID=Europe/Berlin:20251114T083000
DTEND;TZID=Europe/Berlin:20251114T123000
DTSTAMP:20250917T130419Z
URL:https://bcis-bildung.at/events/psychische-krankheiten-bei-menschen-mit
 -geistigen-behinderungen-aber-wie-damit-umgehen-5/
SUMMARY:Psychische Krankheiten bei Menschen mit geistigen Behinderungen –
  aber wie damit umgehen?
DESCRIPTION:- ein Grundlagenseminar für Fachkräfte in Werk- und Wohnstät
 ten -\n\nSeit einiger Zeit erscheint es so\, als ob immer mehr Menschen mi
 t Verhaltensproblemen oder sogar mit psychischen Auffälligkeiten und Erkr
 ankungen in den Werk- und Wohnstätten bzw. in den ambulanten Diensten ank
 ommen.\n\nUnverkennbar ist offenbar auch eine neue Form von Mehrfachbehind
 erung in der Kombination von geistiger Beeinträchtigung und psychischer A
 uffälligkeit.\n\nEs soll im Seminar Klarheit über die Formen und Ursache
 n vorgenannter Erscheinungen entwickelt werden.\n\nBesondere Aufmerksamkei
 t erhält die Systematik der psychischen Erkrankungen von affektiven Stör
 ungen\, Belastungs- und somatoformen Störungen\, bei Störungen im Autism
 us Spektrum und bei Schizophrenie.\n\nInhalte und Ziele: \n\n 	Krankheitse
 ntwicklung psychischer Erkrankungen\n 	Entwicklung psychischer Störungsbi
 lder bei Menschen mit geistigen Beeinträchtigungen.\n 	Fachliche Systemat
 ik psychischer Erkrankungen und\n 	deren Zusammenwirken mit intellektuelle
 n Einschränkungen.\n\nZielgruppe:\n\nFachkräfte in den Werkstätten\, de
 m Stationären- und Ambulanten Bereich\, der Behindertenhilfe\, Therapeuti
 sche Fachkräfte\n\nTechnik:\n\n 	PC oder Laptop mit Kamera und Headset od
 er Kopfhörer\n 	GoToMeeting\n\nSie können jederzeit an einem GoToMeeting
  Testmeeting teilnehmen\, um sich mit GoToMeeting vertraut zu machen und I
 hr Mikrofon/Ihre Lautsprecher zu testen\, bevor Sie an der Fortbildung tei
 lnehmen. https://support.goto.com/de/meeting/help/join-a-test-session-g2m0
 50001\n\nDozent: Dr. paed. Gert Heinicke
CATEGORIES:Behinderung | Krankheitsbilder | Störungen,Online
END:VEVENT
BEGIN:VTIMEZONE
TZID:Europe/Berlin
X-LIC-LOCATION:Europe/Berlin
BEGIN:STANDARD
DTSTART:20251026T020000
TZOFFSETFROM:+0200
TZOFFSETTO:+0100
TZNAME:CET
END:STANDARD
END:VTIMEZONE
END:VCALENDAR