BEGIN:VCALENDAR
VERSION:2.0
PRODID:-//wp-events-plugin.com//7.2.3.1//EN
TZID:Europe/Berlin
X-WR-TIMEZONE:Europe/Berlin
BEGIN:VEVENT
UID:305@bcis-bildung.at
DTSTART;TZID=Europe/Berlin:20260429T090000
DTEND;TZID=Europe/Berlin:20260429T153000
DTSTAMP:20251125T070633Z
URL:https://bcis-bildung.at/events/resilienz-entwickeln-psychische-widerst
 andsfaehigkeit-staerken-6/
SUMMARY:Resilienz entwickeln – psychische Widerstandsfähigkeit stärken
DESCRIPTION:Manche Menschen bewältigen Krisen und Stress besser als andere
 \, ja\, sie gehen sogar gestärkt daraus hervor.\n\nWas zeichnet diese Men
 schen aus\, was haben sie\, was andere nicht haben? Wie kann ein resilient
 er Mensch werden?\n\nAuf diese und andere Fragen im Zusammenhang mit dem T
 hema Resilienz bekommen Sie in diesem Seminar die Antworten.\n\nInhalt: 
   \n\n 	Die Bedeutung der Resilienz für ein gesundes Leben kennen\n 	Si
 e verstehen den Zusammenhang zwischen Stress und mangelnder Resilienz\n 	S
 ie können im Anschluss dieses Seminars Ihre eigene Resilienz realistisch 
 einschätzen\n 	Sie lernen ein Konzept kennen\, die eigene Resilienz zu en
 twickeln und zu stärken.\n\nZielgruppe:\n\nMitarbeiterinnen und Mitarbeit
 er in sozialen Einrichtungen mit hoher beruflicher und privater Belastung.
  Menschen die sich langfristig emotional belastet fühlen.\n\nTechnik:\n\n
  	PC oder Laptop mit Kamera und Headset oder Kopfhörer\n 	GoToMeeting\n\n
 Sie können jederzeit an einem GoToMeeting Testmeeting teilnehmen\, um sic
 h mit GoToMeeting vertraut zu machen und Ihr Mikrofon/Ihre Lautsprecher zu
  testen\, bevor Sie an der Fortbildung teilnehmen. https://support.goto.co
 m/de/meeting/help/join-a-test-session-g2m050001\n\nDozent: Uwe Steinmeyer
 \,  Dozent für Psychologie
CATEGORIES:Online,Persönliche und soziale Kompetenzen
END:VEVENT
BEGIN:VTIMEZONE
TZID:Europe/Berlin
X-LIC-LOCATION:Europe/Berlin
BEGIN:DAYLIGHT
DTSTART:20260329T030000
TZOFFSETFROM:+0100
TZOFFSETTO:+0200
TZNAME:CEST
END:DAYLIGHT
END:VTIMEZONE
END:VCALENDAR