BEGIN:VCALENDAR
VERSION:2.0
PRODID:-//wp-events-plugin.com//7.2.3.1//EN
TZID:Europe/Berlin
X-WR-TIMEZONE:Europe/Berlin
BEGIN:VEVENT
UID:334@bcis-bildung.at
DTSTART;TZID=Europe/Berlin:20261001T090000
DTEND;TZID=Europe/Berlin:20261001T153000
DTSTAMP:20260217T091655Z
URL:https://bcis-bildung.at/events/sexuelle-selbstbestimmung-ein-menschenr
 echt-5/
SUMMARY:Sexuelle Selbstbestimmung – ein Menschenrecht
DESCRIPTION:Annäherung an ein Tabuthema in der Begleitung von Menschen mit
  Lernschwierigkeiten  \n\nDie Schlagworte Empowerment\, Selbstbestimmung\
 , Personzentriert durchziehen moderne Konzepte. Offen bleibt\, welchen Ste
 llenwert das Recht auf sexuelle Selbstbestimmung hat. Diese impliziert\, d
 as Recht selbst zu wählen\, wie und mit wem Sexualität gelebt wird. Die 
 Realisierung dieses Anspruchs ist für viele Menschen mit Behinderung aber
  nicht so selbstverständlich wie für Menschen ohne Behinderung. Nicht se
 lten werden sie als geschlechtslose Wesen behandelt.\n\nIm Seminar werden 
 Ansatzpunkte diskutiert\, die dazu beitragen\, dass eine sexualsensible Pe
 rsönlichkeitsbildung und Begleitung gelingt.\n\nInhalte: \n\n 	Kenntniss
 e zu einer sexualfreundlichen Haltung\n 	Entwicklung daraus abgeleiteter H
 andlungsansätze\n 	Vorstellung von Leitlinien und Methoden\n 	Erarbeitung
  erster Schritte - Wie fange ich an?\n 	Reflektion von Möglichkeiten und 
 Grenzen\n 	Hinweise für Unterstützung und Beratung\n\nZielgruppe: Mitarb
 eiterinnen und Mitarbeiter in sozialen Einrichtungen\, die sich mit diesem
  Thema befassen\n\nTechnik:\n\n 	PC oder Laptop mit Kamera und Headset ode
 r Kopfhörer\n 	GoToMeeting\n\nSie können jederzeit an einem GoToMeeting 
 Testmeeting teilnehmen\, um sich mit GoToMeeting vertraut zu machen und Ih
 r Mikrofon/Ihre Lautsprecher zu testen\, bevor Sie an der Fortbildung teil
 nehmen. https://support.goto.com/de/meeting/help/join-a-test-session-g2m05
 0001\n\nDozent: Petra Steinborn
CATEGORIES:Grundlagen der pädagogischen Arbeit,Online
END:VEVENT
BEGIN:VTIMEZONE
TZID:Europe/Berlin
X-LIC-LOCATION:Europe/Berlin
BEGIN:DAYLIGHT
DTSTART:20260329T030000
TZOFFSETFROM:+0100
TZOFFSETTO:+0200
TZNAME:CEST
END:DAYLIGHT
END:VTIMEZONE
END:VCALENDAR