BEGIN:VCALENDAR
VERSION:2.0
PRODID:-//wp-events-plugin.com//7.2.3.1//EN
TZID:Europe/Berlin
X-WR-TIMEZONE:Europe/Berlin
BEGIN:VEVENT
UID:277@bcis-bildung.at
DTSTART;TZID=Europe/Berlin:20260127T090000
DTEND;TZID=Europe/Berlin:20260128T153000
DTSTAMP:20251125T065202Z
URL:https://bcis-bildung.at/events/teams-erfolgreich-fuehren-3/
SUMMARY:Teams erfolgreich führen
DESCRIPTION:Der Erfolg des Unternehmens wie auch der Erfolg der einzelnen F
 ührungskraft hängen wesentlich auch davon ab\, Teamprozesse erfolgreich 
 zu gestalten. Im Gegenzug kann ein zu spätes Intervenieren bei ungünstig
 er Teamdynamik langfristig den Erfolg dieser Teams und ganzer Abteilungen 
 gefährden.\n\nDieses Seminar vermittelt die Kenntnisse\, die Führungskr
 äfte in Sandwichpositionen benötigen\, um das Potential ihrer Teams und 
 Abteilungen optimal zu nutzen und Ziele erfolgreich zu erreichen.\n\nIm Ei
 nzelnen lernen Sie:\n\nTag 1 \n\nProzesse in Teams\n\n 	Normen Rollen\, S
 tatus und Kohäsion in Gruppen erkennen\n\nErfolgreiche Steuerung von Team
 prozessen als Führungskompetenz\n\n 	Beobachtung und Steuerung von Gruppe
 nprozessen\n 	Beobachten und Steuern der Entwicklung von Teamnormen\n 	Beo
 bachten und Steuern von Entscheidungsprozessen im Team\n 	Erkennen von Lei
 stungsträgern und Trittbrettfahrern\n\nLeistungserhöhung im Team durch g
 ezielte Motivation der Mitarbeitender\n\n 	Seriöse Methoden der Motivermi
 ttlung\n 	Setzen der richtigen Anreize\n 	Motivation durch richtige Zielse
 tzung\n\nTag 2\n\nKonflikte erkennen und als Führungskraft Teamleistung e
 rhalten\n\n 	Konflikte und Konfliktverläufe erkennen und richtig handeln\
 n 	Der „konfliktträchtige“ Mitarbeitertyp – rechtzeitig erkennen\n 
 	Konflikte im Ansatz reduzieren oder vermeiden (Deeskalation)\n 	Betriebst
 ypische Konflikte und Lösungsmöglichkeiten\n 	Klassische Intrakonflikte 
 der Führungskraft\n\nWandel in Teams als Führungskraft optimal managen\n
 \n 	Gründe für Veränderungsmanagement\n 	Evolution und Revolution als G
 rundstrategien\n 	Methoden für kleine Teams\n 	Methoden für große Teams
 \n 	Methoden für einzelne Mitarbeiter\n\nFallsticke in der Teamführung\n
 \nKurzer Exkurs Stressmanagement und Burn-Out-Prävention für Führungskr
 äfte\n\nAbschlussworkshop\n\nZielgruppe: Führungskräfte in Sandwichposi
 tion\, Mitarbeitende in Vorbereitung auf eine Führungsaufgabe\n\nTechnik:
 \n\n 	PC oder Laptop mit Kamera und Headset oder Kopfhörer\n 	Zoom Deskto
 p-Client\n\nSie können jederzeit an einem Zoom Testmeeting teilnehmen\, u
 m sich mit Zoom vertraut zu machen und Ihr Mikrofon/Ihre Lautsprecher zu t
 esten\, bevor Sie an der Fortbildung teilnehmen.  http://zoom.us/testIn n
 euem Fenster öffnen\n\nDozentin: Uwe Steinmeyer\, Dozent für Psychologie
  und Verhaltenstherapie
CATEGORIES:Management und Führung,Online
END:VEVENT
BEGIN:VTIMEZONE
TZID:Europe/Berlin
X-LIC-LOCATION:Europe/Berlin
BEGIN:STANDARD
DTSTART:20251026T020000
TZOFFSETFROM:+0200
TZOFFSETTO:+0100
TZNAME:CET
END:STANDARD
END:VTIMEZONE
END:VCALENDAR