BEGIN:VCALENDAR
VERSION:2.0
PRODID:-//wp-events-plugin.com//7.2.3.1//EN
TZID:Europe/Berlin
X-WR-TIMEZONE:Europe/Berlin
BEGIN:VEVENT
UID:166@bcis-bildung.at
DTSTART;TZID=Europe/Berlin:20251020T090000
DTEND;TZID=Europe/Berlin:20251021T153000
DTSTAMP:20250610T085527Z
URL:https://bcis-bildung.at/events/traumafolgestoerungen-3/
SUMMARY:Traumafolgestörungen
DESCRIPTION:Der Kollaps unserer Warnsysteme\n\nTraumata sind eine verheeren
 de Erfahrung. Unser Gehirn\, das sonst zuverlässig den Ansturm an Informa
 tionen und Situationen hormonellen Ungleichgewichts kompensieren kann\, ge
 rät an seine Grenzen. Traumatische Erfahrungen sind kein seltenes Phänom
 en. Etwa acht Prozent der Bevölkerung leiden irgendwann im Laufe ihres Le
 bens unter posttraumatischen Stresssymptomen\, oft auch unerkannt oder unb
 ewusst und erst einmal nicht als Traumafolgestörung diagnostiziert.\n\nDa
 s Störungsbild ist geprägt durch z. B. belastende Gedanken und Erinnerun
 gen\, Vermeidungsverhalten\, emotionaler Rückzug etc. und für viele Fach
 kräfte in der Begleitung der Menschen mit Traumafolgestörung selbst ein 
 emotionaler Kraftakt.\n\nIn der Fortbildung werden am ersten Tag die Grund
 lagen gelegt\, um die neuronalen Veränderungen im Gehirn nachvollziehen z
 u können. Der zweite Tag hat den Schwerpunkt im praktischen Ansatz.\n\nIn
 halt\n\n 	Grundlagen zum Aufbau unseres Gehirns und die Trauma-begünstige
 nden Störungen auf der Ebene der neuronalen Strukturen\n 	Auslöser\, Sym
 ptome und Diagnostik\n 	Entwicklungstraumatisierung bei (sexualisierter) G
 ewalt\, Vernachlässigung\, Beziehungsabbrüchen\n 	Schocktraumatisierung 
 bei Unfällen\, Kriegserlebnissen\, Vergewaltigungen und anderen Gewaltdel
 ikten\n 	Salutogenese: das Konzept nach Antonovsky\n 	Trauma-pädagogische
  Grundlagen\n 	Trauma-sensibles Handeln\n\nTechnik:\n\n 	PC oder Laptop mi
 t Kamera und Headset oder Kopfhörer\n 	GoToMeeting\n\nSie können jederze
 it an einem GoToMeeting Testmeeting teilnehmen\, um sich mit GoToMeeting v
 ertraut zu machen und Ihr Mikrofon/Ihre Lautsprecher zu testen\, bevor Sie
  an der Fortbildung teilnehmen.  https://support.goto.com/de/meeting/help
 /join-a-test-session-g2m050001\n\nZielgruppe: \n\nFachkräfte aus der Juge
 ndhilfe\, Werkstätten und dem Wohnbereich\n\nDozent: Dipl.-Psych. Roland 
 Haag
CATEGORIES:Behinderung | Krankheitsbilder | Störungen,Online
END:VEVENT
BEGIN:VTIMEZONE
TZID:Europe/Berlin
X-LIC-LOCATION:Europe/Berlin
BEGIN:DAYLIGHT
DTSTART:20250330T030000
TZOFFSETFROM:+0100
TZOFFSETTO:+0200
TZNAME:CEST
END:DAYLIGHT
END:VTIMEZONE
END:VCALENDAR