BEGIN:VCALENDAR
VERSION:2.0
PRODID:-//wp-events-plugin.com//7.2.3.1//EN
TZID:Europe/Berlin
X-WR-TIMEZONE:Europe/Berlin
BEGIN:VEVENT
UID:283@bcis-bildung.at
DTSTART;TZID=Europe/Berlin:20260323T090000
DTEND;TZID=Europe/Berlin:20260323T153000
DTSTAMP:20251125T070046Z
URL:https://bcis-bildung.at/events/verhaltenssucht-als-beziehungsfalle-wie
 -gehe-ich-damit-um-4/
SUMMARY:Verhaltenssucht als Beziehungsfalle - Wie gehe ich damit um?
DESCRIPTION:Welche Bedeutung haben Bindung und Bindungserfahrung für Fachk
 räfte im Arbeitsalltag mit Verhaltenssüchten? Was spielt neben biomechan
 ischen Aspekten von nichtstofflichen Suchtstörungen eine wichtige Rolle u
 nd welche Auswirkungen hat dies für meine Arbeit im Dienstalltag?  Wie k
 ann ich die Verhaltensweisen der Betroffenen im Dienstalltag besser verste
 hen?\n\nComputerspielsucht\, Spielsucht\, Arbeitssucht\, Kaufsucht etc. st
 ellen für Fachkräfte\, Betroffene und Angehörige eine große Herausford
 erung dar\, können Leidensdruck und Gefühle von Hilflosigkeit  auslöse
 n.\n\nDieses Seminar setzt sich mit den entwicklungspychologischen Kompone
 nten in der Entstehung von  Verhaltenssüchten auseinander. Einen besonde
 ren Schwerpunkt nehmen Bindungserfahrungen und Bindungsstörungen und dere
 n Auswirkungen auf die Arbeitsbeziehung im Dienstalltag ein.\n\nInhalte:\n
 \n 	Grundlagen Bindungstheorie\n 	Bindungstypen und Bindungstörungen\n 	A
 uswirkungen von Bindungsstörungen/Bindungserfahrungen auf Hirn – und Pe
 rsönlichkeitsentwicklung\n 	Grundwissen Verhaltenssüchte\, Abgrenzung Zw
 angsstörungen\n 	Verschränkung zwischen Bindung und Sucht\n 	Interventio
 nsansätze für den Arbeitsalltag\n\nMethoden:\n\n 	Gruppenarbeiten\n 	Sem
 inaristisches Arbeiten\n 	Bearbeiten der Lerninhalte in Fallbesprechungen\
 n\nZiele:\n\n 	ein besseres Verständnis für das komplexe Zusammenwirken 
 von Bindung und Verhaltenssucht und\n 	die Auswirkungen auf das Innenleben
  der Betroffenen\, deren Handlungsstrategien und die eigenen Reaktionen be
 sser einordnen\n 	und eine reflexive Perspektivübernahme vornehmen\n 	sta
 bilere Arbeitsbeziehungen zu den Betroffenen aufrechterhalten zu können\n
 \nDie Teilnehmenden...\n\n 	haben sich ein tieferes Verständnis für den 
 Komplex Bindung-Verhaltenssucht erarbeitet\n 	kennen die Auswirkungen von 
 Bindungsstörungen auf Selbstregulation\, Selbstbild\, Körperbild\, Körp
 erschema\, Beziehungsgestaltung und psychologischer Funktionen von Verhalt
 enssüchten\n 	erhalten ein inneres Arbeitsmodell\, um einen ressourcenori
 entierten Blick auf die Arbeitsbeziehung zu ihren Klienten und Klientinnen
  aufrechtzuerhalten und\n 	„Beziehungsfallen“ im Dienstalltag zu erken
 nen\n\nZielgruppe:\n\nFachkräfte in stationären Hilfen (Suchttherapie\, 
 (Junge) Erwachsene\, Besondere Wohnform)\, Suchtberatung und an dem Komple
 x Interessierte.\n\nDurchführungsart:\nÜber eine Onlineverbindung wird m
 ittels Präsentation\, Erläuterungen\, Beispieldarstellungen und Fragemö
 glichkeiten ein kreativer Schnittpunkt zwischen den Teilnehmerinnen und Te
 ilnehmern und unserem Dozenten geschaffen.\n\nTechnik:\n\n 	PC oder Laptop
  mit Kamera und Headset oder Kopfhörer\n 	Zoom Desktop-Client oder Go-To 
 Meeting\n\nSie können jederzeit an einem Zoom Testmeeting teilnehmen\, um
  sich mit Zoom vertraut zu machen und Ihr Mikrofon/Ihre Lautsprecher zu te
 sten\, bevor Sie an der Fortbildung teilnehmen.  http://zoom.us/testIn ne
 uem Fenster öffnen\n\nDozent: Joachim Haustein\, klinischer Psychologe M.
 A.
CATEGORIES:Behinderung | Krankheitsbilder | Störungen,Online
END:VEVENT
BEGIN:VTIMEZONE
TZID:Europe/Berlin
X-LIC-LOCATION:Europe/Berlin
BEGIN:STANDARD
DTSTART:20251026T020000
TZOFFSETFROM:+0200
TZOFFSETTO:+0100
TZNAME:CET
END:STANDARD
END:VTIMEZONE
END:VCALENDAR