BEGIN:VCALENDAR
VERSION:2.0
PRODID:-//wp-events-plugin.com//7.2.3.1//EN
TZID:Europe/Berlin
X-WR-TIMEZONE:Europe/Berlin
BEGIN:VEVENT
UID:312@bcis-bildung.at
DTSTART;TZID=Europe/Berlin:20260415T090000
DTEND;TZID=Europe/Berlin:20260415T153000
DTSTAMP:20251125T070552Z
URL:https://bcis-bildung.at/events/werkzeuge-fuer-effiziente-bueroorganisa
 tion-arbeitsorganisation-7/
SUMMARY:Werkzeuge für effiziente Büroorganisation & Arbeitsorganisation
DESCRIPTION:Produktiver und stressfreier mit Methoden des Lean Managements 
 und KI\n\nWie Lean Management\, KAIZEN und künstliche Intelligenz (KI) he
 lfen können\, im Arbeitsalltag Zeit zu sparen und effizienter zu sein. Da
 s Büroumfeld und den Arbeitsalltag effizienter\norganisieren und die eige
 ne Zeit erfolgreich managen. Mit einfachen und wirksamen Methoden lassen s
 ich Prozesse und Arbeitsabläufe nachhaltig organisieren. \n\nIn diesem Se
 minar zeigen wir Ihnen Wege auf\, wie Sie Prinzipien aus dem Lean-Manageme
 nt\, dem Selbstmanagement und der Digitalisierung\, Beispiel KI\, auf einf
 ache Weise nutzen und auf Ihren Arbeitsalltag übertragen können. So kön
 nen Sie bestehende Prozesse und Arbeitsabläufe effizienter gestalten\, di
 e vorhandene Zeit besser für das Erreichen beruflicher und privater Ziele
  nutzen sowie unwichtige zeit- und energieraubende Tätigkeiten im Arbeits
 alltag reduzieren.\n\nUnsere Dozenten verfügen über einen hohen Praxisbe
 zug und vermitteln Ihnen die Seminarinhalte verständlich und unkomplizier
 t. Wir setzen dabei auf einen interaktiven Dialog.\n\nInhalte:\n\nDas Lean
 -Prinzip und KI\n- Grundgedanken und Motivation - Bewusstsein für verschw
 endungsfreies Arbeiten\n- Statement KI kurz und verständlich\, Beispiel K
 I-Tool MS Copilot &amp\; ChatGPT\n- Wie passt Lean-Management und Selbstma
 nagement zusammen?\n\nMein persönliches Handeln\n- Reflexion und die pers
 önliche Motivation\n- Mein Arbeitsplatz – die Arbeitsplatzanalyse\n- Da
 s „digitale Büro“ – wo liegt der Nutzen?\n\nWege zu einer besseren 
 Büroorganisation\n- KAIZEN und die 5S Methode\n- Identifikation Verschwen
 dung und Zeitdiebe\n- Arbeitsabläufe und Prozesse analysieren\n- Planungs
 techniken und vorhandene IT-Systeme besser nutzen\n\nWirksame Methoden und
  Tools\n- 5-Why Methode – einfaches Verfahren zur Fehler-Ursachenanalyse
 \n- „Day in the life Methode“\n- Einfache Tipps zur Prozessanalyse\n- 
 Best Practice – Empfehlungen\n\nIhr Nutzen:\n\n 	Sie erhalten einen Übe
 rblick wirksamer Methoden aus dem Lean-Management und\nSelbstmanagement un
 d können diese auf Ihr Arbeitsumfeld übertragen und anwenden.\n 	Sie kö
 nnen Verschwendung in Ihren Arbeitsabläufen erkennen und eliminieren.\n 	
 Sie erfahren\, wie Sie Ihre Büroorganisation verbessern und KI-Tools nutz
 en können.\n\nZielgruppe:               Fach- und Führungs
 kräfte aus allen Unternehmens- und Verwaltungsbereichen sowie alle Person
 en\, die Arbeitsprozesse und die Zusammenarbeit gezielt verbessern möchte
 n.\n\nDozent: Dipl. Wirtschaft. Ing. Bernd Wagenknecht Trainer\, Business 
 Coach\, Berater und Lean Experte
CATEGORIES:Digitalisierung und IT-Kompetenz,Online
END:VEVENT
BEGIN:VTIMEZONE
TZID:Europe/Berlin
X-LIC-LOCATION:Europe/Berlin
BEGIN:DAYLIGHT
DTSTART:20260329T030000
TZOFFSETFROM:+0100
TZOFFSETTO:+0200
TZNAME:CEST
END:DAYLIGHT
END:VTIMEZONE
END:VCALENDAR